BEGIN:VCALENDAR
VERSION:2.0
PRODID:-//CFA Society North Carolina - ECPv6.15.17.1//NONSGML v1.0//EN
CALSCALE:GREGORIAN
METHOD:PUBLISH
X-ORIGINAL-URL:https://cfanorthcarolina.org
X-WR-CALDESC:Events for CFA Society North Carolina
REFRESH-INTERVAL;VALUE=DURATION:PT1H
X-Robots-Tag:noindex
X-PUBLISHED-TTL:PT1H
BEGIN:VTIMEZONE
TZID:America/New_York
BEGIN:DAYLIGHT
TZOFFSETFROM:-0500
TZOFFSETTO:-0400
TZNAME:EDT
DTSTART:20240310T070000
END:DAYLIGHT
BEGIN:STANDARD
TZOFFSETFROM:-0400
TZOFFSETTO:-0500
TZNAME:EST
DTSTART:20241103T060000
END:STANDARD
BEGIN:DAYLIGHT
TZOFFSETFROM:-0500
TZOFFSETTO:-0400
TZNAME:EDT
DTSTART:20250309T070000
END:DAYLIGHT
BEGIN:STANDARD
TZOFFSETFROM:-0400
TZOFFSETTO:-0500
TZNAME:EST
DTSTART:20251102T060000
END:STANDARD
BEGIN:DAYLIGHT
TZOFFSETFROM:-0500
TZOFFSETTO:-0400
TZNAME:EDT
DTSTART:20260308T070000
END:DAYLIGHT
BEGIN:STANDARD
TZOFFSETFROM:-0400
TZOFFSETTO:-0500
TZNAME:EST
DTSTART:20261101T060000
END:STANDARD
END:VTIMEZONE
BEGIN:VEVENT
DTSTART;TZID=America/New_York:20250909T200000
DTEND;TZID=America/New_York:20251111T220000
DTSTAMP:20260421T215051
CREATED:20250626T183218Z
LAST-MODIFIED:20250626T183220Z
UID:6949-1757448000-1762898400@cfanorthcarolina.org
SUMMARY:Fixed Income Series 2025
DESCRIPTION:Tuesdays\, beginning Sept 9. Recordings will be available for those registered. \n\n\n\nThis educational course is designed for those seeking to gain a broader understanding of fixed income strategies. A sound understanding of fixed income markets and strategies is fundamental for all serious finance and investment professionals. This course examines the characteristics\, benefits\, and risks of the various fixed income strategies including treasuries\, agencies\, MBS\, international\, municipal\, corporate\, and derivatives. Professionals from prominent local investment firms will lead this series so attendees will obtain unique perspectives on the current market. Instructors will also share their insights on asset allocation and risk management. As a course participant\, you will have access to the corresponding course recording. If you sign up as a series registrant\, you will have access to all 10 course recordings. Access to course recordings expire after 60 days. 
URL:https://cfanorthcarolina.org/event/fixed-income-series-2025/
CATEGORIES:Virtual
ATTACH;FMTTYPE=image/png:https://cfanorthcarolina.org/wp-content/uploads/2025/06/Add-a-heading-2025-06-26T135427.929.png
END:VEVENT
BEGIN:VEVENT
DTSTART;TZID=America/New_York:20250910T120000
DTEND;TZID=America/New_York:20250910T130000
DTSTAMP:20260421T215051
CREATED:20250730T175221Z
LAST-MODIFIED:20250730T175223Z
UID:7000-1757505600-1757509200@cfanorthcarolina.org
SUMMARY:CWIM Live Q&A with the Author: “Brave New You: Strategies\, Tools\, and Neurohacks to Live More Courageously Every Day” Featuring Mary Poffenroth\, PhD (Hosted by CFA Society Chile)
DESCRIPTION:Fear and anxiety are powerful forces — but they don’t have to define you. Beyond the fear of failing or not fitting in\, we face pervasive everyday fears triggered by problems and issues in the world around us\, like climate change\, pandemics\, and wars that often manifest as depression\, melancholy\, anxiety\, and stress. Without managing these lingering fears properly\, you risk further physical and emotional damage\, keeping you from living a fully functioning and happy life. In this Live Q&A session with Mary Poffenroth\, author of Brave New You\, uncover “neurohacks” that will help you master everyday fear and anxiety. \n\n\n\nDon’t miss out on step‑by‑step instructions for building a practice to manage stress and anxiety. Whether in the boardroom\, during transitions\, or in daily life — reclaim a greater sense of purpose\, peace\, and power. \n\n\n\nUncover simple\, powerful steps towards healing. \n\n\n\nAsk questions and get answers to what-if scenarios in a LIVE Q&A with Poffenroth. \n\n\n\nYou are encouraged to invite your colleagues for this complimentary interactive event.
URL:https://cfanorthcarolina.org/event/cwim-live-qa-with-the-author-brave-new-you-strategies-tools-and-neurohacks-to-live-more-courageously-every-day-featuring-mary-poffenroth-phd-hosted-by-cfa-society-chile/
CATEGORIES:Special Invitation for CFANC Members,Virtual
ATTACH;FMTTYPE=image/png:https://cfanorthcarolina.org/wp-content/uploads/2025/07/Add-a-heading-2025-07-30T134053.573.png
END:VEVENT
BEGIN:VEVENT
DTSTART;TZID=America/New_York:20250913T130000
DTEND;TZID=America/New_York:20250913T143000
DTSTAMP:20260421T215051
CREATED:20250626T174545Z
LAST-MODIFIED:20250626T174546Z
UID:6943-1757768400-1757773800@cfanorthcarolina.org
SUMMARY:Level II Ethics Workshop
DESCRIPTION:Professions can only exist within an industry when those acting with transparency\, integrity\, candor\, and trust reach a critical mass. Come join Paul Hwang\, CFA as he analyses CFA Institute’s Code of Ethics and Standards of Professional Conduct within the Level II CFA Curriculum. \n\n\n\nThis discussion will follow CFA Institute’s Learning Outcome Statements for 2025 Level II CFA Curriculum Volume 10\, Modules 1-3: \n\n\n\nExplain how the practices\, policies\, and conduct do or do not violate the CFA Institute Code of Ethics and Standards of Professional Conduct. \n\n\n\nDescribe the six components of the Code of Ethics and the seven Standards of Professional Conduct. \n\n\n\nExplain the ethical responsibilities required of CFA Institute members and candidates in the CFA Program by the Code and Standards. \n\n\n\nDemonstrate a thorough knowledge of the CFA Institute Code of Ethics and Standards of Professional Conduct by applying the Code and Standards to specific situations. \n\n\n\nRecommend practices and procedures designed to prevent violations of the Code of Ethics and Standards of Professional Conduct. \n\n\n\nEvaluate practices\, policies\, and conduct relative to the CFA Institute Code of Ethics and Standards of Professional Conduct.
URL:https://cfanorthcarolina.org/event/level-ii-ethics-workshop-3/
CATEGORIES:Candidate Focused Event,Virtual
ATTACH;FMTTYPE=image/png:https://cfanorthcarolina.org/wp-content/uploads/2025/06/Add-a-heading-2025-06-26T132733.991.png
END:VEVENT
BEGIN:VEVENT
DTSTART;TZID=America/New_York:20250918T050000
DTEND;TZID=America/New_York:20250918T190000
DTSTAMP:20260421T215051
CREATED:20250827T170831Z
LAST-MODIFIED:20250923T140312Z
UID:7454-1758171600-1758222000@cfanorthcarolina.org
SUMMARY:Triad Networking-Incendiary Brewing
DESCRIPTION:Join us as we return from the summer break for an evening of meaningful connections and professional networking with fellow CFA NC members and candidates. Register now to expand your network and engage in great conversations!
URL:https://cfanorthcarolina.org/event/triad-networking-incendiary-brewing-4/
LOCATION:Incendiary Brewing Company\, 486 N. Patterson Avenue\, #105\, Winston Salem\, North Carolina\, 27101
CATEGORIES:Networking
ATTACH;FMTTYPE=image/png:https://cfanorthcarolina.org/wp-content/uploads/2025/08/Wine-and-Network-22.png
END:VEVENT
BEGIN:VEVENT
DTSTART;TZID=America/New_York:20250923T173000
DTEND;TZID=America/New_York:20250923T193000
DTSTAMP:20260421T215051
CREATED:20250909T193041Z
LAST-MODIFIED:20250909T193042Z
UID:8040-1758648600-1758655800@cfanorthcarolina.org
SUMMARY:Charlotte Networking-Lost Worlds Brewing Charlotte
DESCRIPTION:Join us for an evening of meaningful connections and professional networking with fellow CFA NC members and candidates. Register now to expand your network and engage in great conversations!
URL:https://cfanorthcarolina.org/event/charlotte-networking-lost-worlds-brewing-charlotte/
LOCATION:Lost Worlds Brewing-Charlotte\, 1100 Metropolitan Ave\, Charlotte\, North Carolina\, 28204
CATEGORIES:Networking
ATTACH;FMTTYPE=image/png:https://cfanorthcarolina.org/wp-content/uploads/2025/09/Wine-and-Network-25.png
END:VEVENT
BEGIN:VEVENT
DTSTART;TZID=America/New_York:20250924T173000
DTEND;TZID=America/New_York:20250924T193000
DTSTAMP:20260421T215051
CREATED:20250909T193403Z
LAST-MODIFIED:20250909T193405Z
UID:8045-1758735000-1758742200@cfanorthcarolina.org
SUMMARY:Triangle Networking-Raleigh Brewing
DESCRIPTION:Join us for an evening of meaningful connections and professional networking with fellow CFA NC members and candidates. Register now to expand your network and engage in great conversations!
URL:https://cfanorthcarolina.org/event/triangle-networking-raleigh-brewing-2/
LOCATION:Raleigh Brewing Company\, 3709 Neil Street\, Raleigh\, North Carolina\, 27607
CATEGORIES:Networking
ATTACH;FMTTYPE=image/png:https://cfanorthcarolina.org/wp-content/uploads/2025/09/Wine-and-Network-24.png
END:VEVENT
END:VCALENDAR