BEGIN:VCALENDAR
VERSION:2.0
PRODID:-//CFA Society North Carolina - ECPv6.15.17.1//NONSGML v1.0//EN
CALSCALE:GREGORIAN
METHOD:PUBLISH
X-WR-CALNAME:CFA Society North Carolina
X-ORIGINAL-URL:https://cfanorthcarolina.org
X-WR-CALDESC:Events for CFA Society North Carolina
REFRESH-INTERVAL;VALUE=DURATION:PT1H
X-Robots-Tag:noindex
X-PUBLISHED-TTL:PT1H
BEGIN:VTIMEZONE
TZID:America/New_York
BEGIN:DAYLIGHT
TZOFFSETFROM:-0500
TZOFFSETTO:-0400
TZNAME:EDT
DTSTART:20240310T070000
END:DAYLIGHT
BEGIN:STANDARD
TZOFFSETFROM:-0400
TZOFFSETTO:-0500
TZNAME:EST
DTSTART:20241103T060000
END:STANDARD
BEGIN:DAYLIGHT
TZOFFSETFROM:-0500
TZOFFSETTO:-0400
TZNAME:EDT
DTSTART:20250309T070000
END:DAYLIGHT
BEGIN:STANDARD
TZOFFSETFROM:-0400
TZOFFSETTO:-0500
TZNAME:EST
DTSTART:20251102T060000
END:STANDARD
BEGIN:DAYLIGHT
TZOFFSETFROM:-0500
TZOFFSETTO:-0400
TZNAME:EDT
DTSTART:20260308T070000
END:DAYLIGHT
BEGIN:STANDARD
TZOFFSETFROM:-0400
TZOFFSETTO:-0500
TZNAME:EST
DTSTART:20261101T060000
END:STANDARD
END:VTIMEZONE
BEGIN:VEVENT
DTSTART;TZID=America/New_York:20250408T200000
DTEND;TZID=America/New_York:20250610T213000
DTSTAMP:20260422T023251
CREATED:20250121T142608Z
LAST-MODIFIED:20250121T142609Z
UID:6732-1744142400-1749591000@cfanorthcarolina.org
SUMMARY:Alternative Investment Series 2025
DESCRIPTION:This educational series is designed for those seeking to gain a broader understanding of alternative investment strategies. A sound understanding of alternative investments (AI) is fundamental for all serious finance and investment professionals. This course examines the characteristics\, benefits\, and risks of the various AI strategies including private equity\, hedge funds\, and derivatives. \n\n\n\nProfessionals from prominent local investment firms will lead this series so attendees will obtain unique perspectives on the current market. Instructors will also share their insights on asset allocation and risk management. \n\n\n\nAs a course participant\, you will have access to the corresponding course recording. If you sign up as a series registrant\, you will have access to all 10-course recordings. Access to course recordings expires after 60 days.  \n\n\n\nPrice for Series:\n\n\n\n\n\nPrice for Individual Classes:\n\n\n\n$40 CFA NC Member Discount Code for Series: AltsSeriesNC25
URL:https://cfanorthcarolina.org/event/alternative-investment-series-2025/
CATEGORIES:Special Invitation for CFANC Members,Virtual
ATTACH;FMTTYPE=image/png:https://cfanorthcarolina.org/wp-content/uploads/2025/01/Add-a-heading-76.png
END:VEVENT
BEGIN:VEVENT
DTSTART;TZID=America/New_York:20250603T180000
DTEND;TZID=America/New_York:20250603T210000
DTSTAMP:20260422T023251
CREATED:20250410T142251Z
LAST-MODIFIED:20250410T142251Z
UID:6848-1748973600-1748984400@cfanorthcarolina.org
SUMMARY:CLT-CFA Society NC & CAIA: An Evening at the Charlotte Knights
DESCRIPTION:Join CFA Society NC and CAIA Carolinas as we kick off the summer at Truist Field with the Charlotte Knights. Pricing includes a ticket to the game\, dinner buffet\, and 2 drink tickets.   \n\n\n\nThank you to our sponsors: \n\n\n\nArtisan Partners & Hines
URL:https://cfanorthcarolina.org/event/clt-cfa-society-nc-caia-an-evening-at-the-charlotte-knights/
LOCATION:Truist Field\, 324 S. Mint Street\, Charlotte\, North Carolina\, 28202
CATEGORIES:Co-Sponsored Event,Networking
ATTACH;FMTTYPE=image/png:https://cfanorthcarolina.org/wp-content/uploads/2025/04/Wine-and-Network-16.png
END:VEVENT
BEGIN:VEVENT
DTSTART;TZID=America/New_York:20250605T190000
DTEND;TZID=America/New_York:20250605T203000
DTSTAMP:20260422T023251
CREATED:20250210T184847Z
LAST-MODIFIED:20250210T184848Z
UID:6794-1749150000-1749155400@cfanorthcarolina.org
SUMMARY:Overview of the Global Investment Performance Standards (GIPS)
DESCRIPTION:If you’re a CFA Candidate looking for a better breakdown on Global Investment Performance Standards (GIPS®)\, or if you’re looking to learn how to best apply the GIPS Standards or get the most out of them for your firm and clients\, then this event is for you. \n\n\n\nThe GIPS Standards were referenced in the SEC’s marketing rule for investment advisors 26 times\, and FINRA now requires private fund presentations to show GIPS compliant capital funding ratios. With practical lessons for every skill level and expertise\, this event offers an in-depth overview of the GIPS standards and helps participants master the fundamentals.
URL:https://cfanorthcarolina.org/event/overview-of-the-global-investment-performance-standards-gips-3/
CATEGORIES:Candidate Focused Event,Special Invitation for CFANC Members,Virtual
ATTACH;FMTTYPE=image/png:https://cfanorthcarolina.org/wp-content/uploads/2025/02/Add-a-heading-90.png
END:VEVENT
BEGIN:VEVENT
DTSTART;TZID=America/New_York:20250610T170000
DTEND;TZID=America/New_York:20250610T200000
DTSTAMP:20260422T023251
CREATED:20250425T144508Z
LAST-MODIFIED:20250516T164807Z
UID:6901-1749574800-1749585600@cfanorthcarolina.org
SUMMARY:CLT: Annual Dinner: ETFs on a Tear-What's Going on Behind the Curtain?
DESCRIPTION:Joanne Hill and Dave Nadig—co-authors of the CFA’s upcoming series\, ETFs Evolving—will fast-forward through the State of the ETF Market and then do a lightning round addressing the key “behind the scenes” features of ETFs along with issues facing ETF investors\, analysts\, and managers in 2025 and beyond.
URL:https://cfanorthcarolina.org/event/clt-annual-dinner-etfs-on-a-tear-whats-going-on-behind-the-curtain/
LOCATION:The Westin Charlotte\, Charlotte\, NC\, United States
CATEGORIES:Annual Event
ATTACH;FMTTYPE=image/png:https://cfanorthcarolina.org/wp-content/uploads/2025/04/Add-a-heading-2025-04-25T103410.764.png
END:VEVENT
BEGIN:VEVENT
DTSTART;TZID=America/New_York:20250621T130000
DTEND;TZID=America/New_York:20250621T150000
DTSTAMP:20260422T023251
CREATED:20250117T194243Z
LAST-MODIFIED:20250117T194243Z
UID:6741-1750510800-1750518000@cfanorthcarolina.org
SUMMARY:Level III Essay Writing Workshop
DESCRIPTION:Are you ready for the Level III CFA Exam? How about the Essay Portion? Knowing the best strategies and methods on how to answer essay questions is almost as important as knowing the actual CFA curriculum content\, and a lot of candidates don’t take the necessary time to prepare. \n\n\n\nPlease join Glen Holden\, Jr.\, CFA as he guides you through the essay writing process of the Level III CFA Exam. This workshop will take you through the CFA Institute Essay Grading Methodology\, Test Taking Tips\, and Pitfalls that can occur during the Level III Exam.
URL:https://cfanorthcarolina.org/event/level-iii-essay-writing-workshop-2/
CATEGORIES:Candidate Focused Event,Virtual
ATTACH;FMTTYPE=image/png:https://cfanorthcarolina.org/wp-content/uploads/2025/01/Add-a-heading-84.png
END:VEVENT
END:VCALENDAR