BEGIN:VCALENDAR
VERSION:2.0
PRODID:-//CFA Society North Carolina - ECPv6.15.17.1//NONSGML v1.0//EN
CALSCALE:GREGORIAN
METHOD:PUBLISH
X-ORIGINAL-URL:https://cfanorthcarolina.org
X-WR-CALDESC:Events for CFA Society North Carolina
REFRESH-INTERVAL;VALUE=DURATION:PT1H
X-Robots-Tag:noindex
X-PUBLISHED-TTL:PT1H
BEGIN:VTIMEZONE
TZID:America/New_York
BEGIN:DAYLIGHT
TZOFFSETFROM:-0500
TZOFFSETTO:-0400
TZNAME:EDT
DTSTART:20240310T070000
END:DAYLIGHT
BEGIN:STANDARD
TZOFFSETFROM:-0400
TZOFFSETTO:-0500
TZNAME:EST
DTSTART:20241103T060000
END:STANDARD
BEGIN:DAYLIGHT
TZOFFSETFROM:-0500
TZOFFSETTO:-0400
TZNAME:EDT
DTSTART:20250309T070000
END:DAYLIGHT
BEGIN:STANDARD
TZOFFSETFROM:-0400
TZOFFSETTO:-0500
TZNAME:EST
DTSTART:20251102T060000
END:STANDARD
BEGIN:DAYLIGHT
TZOFFSETFROM:-0500
TZOFFSETTO:-0400
TZNAME:EDT
DTSTART:20260308T070000
END:DAYLIGHT
BEGIN:STANDARD
TZOFFSETFROM:-0400
TZOFFSETTO:-0500
TZNAME:EST
DTSTART:20261101T060000
END:STANDARD
END:VTIMEZONE
BEGIN:VEVENT
DTSTART;TZID=America/New_York:20250408T200000
DTEND;TZID=America/New_York:20250610T213000
DTSTAMP:20260422T042729
CREATED:20250121T142608Z
LAST-MODIFIED:20250121T142609Z
UID:6732-1744142400-1749591000@cfanorthcarolina.org
SUMMARY:Alternative Investment Series 2025
DESCRIPTION:This educational series is designed for those seeking to gain a broader understanding of alternative investment strategies. A sound understanding of alternative investments (AI) is fundamental for all serious finance and investment professionals. This course examines the characteristics\, benefits\, and risks of the various AI strategies including private equity\, hedge funds\, and derivatives. \n\n\n\nProfessionals from prominent local investment firms will lead this series so attendees will obtain unique perspectives on the current market. Instructors will also share their insights on asset allocation and risk management. \n\n\n\nAs a course participant\, you will have access to the corresponding course recording. If you sign up as a series registrant\, you will have access to all 10-course recordings. Access to course recordings expires after 60 days.  \n\n\n\nPrice for Series:\n\n\n\n\n\nPrice for Individual Classes:\n\n\n\n$40 CFA NC Member Discount Code for Series: AltsSeriesNC25
URL:https://cfanorthcarolina.org/event/alternative-investment-series-2025/
CATEGORIES:Special Invitation for CFANC Members,Virtual
ATTACH;FMTTYPE=image/png:https://cfanorthcarolina.org/wp-content/uploads/2025/01/Add-a-heading-76.png
END:VEVENT
BEGIN:VEVENT
DTSTART;TZID=America/New_York:20250507T130000
DTEND;TZID=America/New_York:20250507T140000
DTSTAMP:20260422T042729
CREATED:20250401T200518Z
LAST-MODIFIED:20250513T201437Z
UID:6843-1746622800-1746626400@cfanorthcarolina.org
SUMMARY:Securitization Is Not a Four-Letter Word
DESCRIPTION:Jessica Leoncini\, Head of Fixed Income CPM Management at Janus Henderson Investors\, will present virtually on Wednesday\, May 7\, from 12:00 – 1:00 PM CT.  CLOs didn’t cause the financial crisis\, not all office buildings are vacant\, and securitized assets are not as complicated as the acronyms would lead you to believe. Join us to debunk these and other myths surrounding an asset class that has provided investors with attractive yields and much-needed diversification benefits.
URL:https://cfanorthcarolina.org/event/securitization-is-not-a-four-letter-word/
CATEGORIES:Co-Sponsored Event,Virtual
ATTACH;FMTTYPE=image/png:https://cfanorthcarolina.org/wp-content/uploads/2025/04/Securitization-Webinar-Portrait-May-7-2025-Social-Post.png
END:VEVENT
BEGIN:VEVENT
DTSTART;TZID=America/New_York:20250514T173000
DTEND;TZID=America/New_York:20250514T193000
DTSTAMP:20260422T042729
CREATED:20250425T144940Z
LAST-MODIFIED:20250425T144940Z
UID:6903-1747243800-1747251000@cfanorthcarolina.org
SUMMARY:Triangle Networking: Lynnwood Brewing Concern
DESCRIPTION:Join us for an evening of meaningful connections and professional networking with fellow CFA NC members and candidates. Register now to expand your network and engage in great conversations!
URL:https://cfanorthcarolina.org/event/triangle-networking-lynnwood-brewing-concern/
LOCATION:Lynnwood Brewing Concern\, 1053 E. Whitaker Mill Road\, Raleigh\, North Carolina\, 27604
CATEGORIES:Networking
ATTACH;FMTTYPE=image/png:https://cfanorthcarolina.org/wp-content/uploads/2025/04/4.png
END:VEVENT
BEGIN:VEVENT
DTSTART;TZID=America/New_York:20250520T090000
DTEND;TZID=America/New_York:20250520T120000
DTSTAMP:20260422T042729
CREATED:20250411T133335Z
LAST-MODIFIED:20250428T132310Z
UID:6852-1747731600-1747742400@cfanorthcarolina.org
SUMMARY:Impact Your Profession. Impact Your Career. Women's Workshop
DESCRIPTION:Mark your calendar for Tuesday\, May 20th\, at 9:00 a.m. to build connections and grow professionally and personally. Space is minimal this year\, so register early. 
URL:https://cfanorthcarolina.org/event/save-the-date-impact-your-profession-impact-your-career-womens-workshop/
LOCATION:Duke Mansion\, 400 Hermitage Road\, Charlotte\, North Carolina\, 28207
CATEGORIES:Co-Sponsored Event,Special Invitation for CFANC Members
ATTACH;FMTTYPE=image/png:https://cfanorthcarolina.org/wp-content/uploads/2025/04/Add-a-heading-2025-04-10T161843.079.png
END:VEVENT
BEGIN:VEVENT
DTSTART;TZID=America/New_York:20250520T173000
DTEND;TZID=America/New_York:20250520T193000
DTSTAMP:20260422T042729
CREATED:20250425T145538Z
LAST-MODIFIED:20250516T164832Z
UID:6907-1747762200-1747769400@cfanorthcarolina.org
SUMMARY:CLT Networking: Wooden Robot Brewery
DESCRIPTION:Join us for an evening of meaningful connections and professional networking with fellow CFA NC members and candidates. Register now to expand your network and engage in great conversations!
URL:https://cfanorthcarolina.org/event/clt-networking-wooden-robot-brewery/
LOCATION:Wooden Robot Brewery\, 1440 S Tryon Street #110\, Charlotte\, North Carolina\, 28203
ATTACH;FMTTYPE=image/png:https://cfanorthcarolina.org/wp-content/uploads/2025/04/3.png
END:VEVENT
BEGIN:VEVENT
DTSTART;TZID=America/New_York:20250521T170000
DTEND;TZID=America/New_York:20250521T190000
DTSTAMP:20260422T042729
CREATED:20250502T144420Z
LAST-MODIFIED:20250502T144420Z
UID:6915-1747846800-1747854000@cfanorthcarolina.org
SUMMARY:Triad Networking-Incendiary Brewing
DESCRIPTION:Join us for an evening of meaningful connections and professional networking with fellow CFA NC members and candidates. Register now to expand your network and engage in great conversations!
URL:https://cfanorthcarolina.org/event/triad-networking-incendiary-brewing-3/
LOCATION:Incendiary Brewing Company\, 486 N. Patterson Avenue\, #105\, Winston Salem\, North Carolina\, 27101
CATEGORIES:Networking
ATTACH;FMTTYPE=image/png:https://cfanorthcarolina.org/wp-content/uploads/2025/05/Wine-and-Network-17.png
END:VEVENT
END:VCALENDAR