BEGIN:VCALENDAR
VERSION:2.0
PRODID:-//CFA Society North Carolina - ECPv6.15.17.1//NONSGML v1.0//EN
CALSCALE:GREGORIAN
METHOD:PUBLISH
X-ORIGINAL-URL:https://cfanorthcarolina.org
X-WR-CALDESC:Events for CFA Society North Carolina
REFRESH-INTERVAL;VALUE=DURATION:PT1H
X-Robots-Tag:noindex
X-PUBLISHED-TTL:PT1H
BEGIN:VTIMEZONE
TZID:America/New_York
BEGIN:DAYLIGHT
TZOFFSETFROM:-0500
TZOFFSETTO:-0400
TZNAME:EDT
DTSTART:20230312T070000
END:DAYLIGHT
BEGIN:STANDARD
TZOFFSETFROM:-0400
TZOFFSETTO:-0500
TZNAME:EST
DTSTART:20231105T060000
END:STANDARD
BEGIN:DAYLIGHT
TZOFFSETFROM:-0500
TZOFFSETTO:-0400
TZNAME:EDT
DTSTART:20240310T070000
END:DAYLIGHT
BEGIN:STANDARD
TZOFFSETFROM:-0400
TZOFFSETTO:-0500
TZNAME:EST
DTSTART:20241103T060000
END:STANDARD
BEGIN:DAYLIGHT
TZOFFSETFROM:-0500
TZOFFSETTO:-0400
TZNAME:EDT
DTSTART:20250309T070000
END:DAYLIGHT
BEGIN:STANDARD
TZOFFSETFROM:-0400
TZOFFSETTO:-0500
TZNAME:EST
DTSTART:20251102T060000
END:STANDARD
END:VTIMEZONE
BEGIN:VEVENT
DTSTART;TZID=America/New_York:20241203T173000
DTEND;TZID=America/New_York:20241203T193000
DTSTAMP:20260422T124713
CREATED:20241120T144108Z
LAST-MODIFIED:20241204T200223Z
UID:6691-1733247000-1733254200@cfanorthcarolina.org
SUMMARY:CLT-Holiday Networking: Burtons Grill and Bar
DESCRIPTION:Join us for an evening of festive cheer and professional connections at our Holiday Networking Event! Celebrate the season with colleagues\, friends\, and new connections while enjoying delicious refreshments and a warm\, welcoming atmosphere. Let’s toast a successful year and new opportunities ahead—don’t miss it!
URL:https://cfanorthcarolina.org/event/clt-holiday-networking-burtons-grill-and-bar/
LOCATION:Burtons Gill & Bar\, 1601 East Woodlawn Road\, Charlotte
CATEGORIES:Networking
ATTACH;FMTTYPE=image/png:https://cfanorthcarolina.org/wp-content/uploads/2024/11/Holiday-Countdown-Sale-9.png
END:VEVENT
BEGIN:VEVENT
DTSTART;TZID=America/New_York:20241204T170000
DTEND;TZID=America/New_York:20241204T190000
DTSTAMP:20260422T124713
CREATED:20241120T144511Z
LAST-MODIFIED:20241120T144512Z
UID:6695-1733331600-1733338800@cfanorthcarolina.org
SUMMARY:Triad-Holiday Networking: Rooster's Wood-Fired Kitchen
DESCRIPTION:Join us for an evening of festive cheer and professional connections at our Holiday Networking Event! Celebrate the season with colleagues\, friends\, and new connections while enjoying delicious refreshments and a warm\, welcoming atmosphere. Let’s toast a successful year and new opportunities ahead—don’t miss it!
URL:https://cfanorthcarolina.org/event/triad-holiday-networking-roosters-wood-fired-kitchen/
LOCATION:Rooster’s Wood-Fired Kitchen\, 380 Knollwood Street\, Winston Salem\, North Carolina\, 27103
CATEGORIES:Networking
ATTACH;FMTTYPE=image/png:https://cfanorthcarolina.org/wp-content/uploads/2024/11/Holiday-Countdown-Sale-8.png
END:VEVENT
BEGIN:VEVENT
DTSTART;TZID=America/New_York:20241211T120000
DTEND;TZID=America/New_York:20241211T130000
DTSTAMP:20260422T124713
CREATED:20241107T162535Z
LAST-MODIFIED:20241107T165429Z
UID:6679-1733918400-1733922000@cfanorthcarolina.org
SUMMARY:Essential Skills to Boost Your Career: Mastering LinkedIn
DESCRIPTION:
URL:https://cfanorthcarolina.org/event/essential-skills-to-boost-your-career-mastering-linkedin/
CATEGORIES:Special Invitation for CFANC Members,Virtual
ATTACH;FMTTYPE=image/png:https://cfanorthcarolina.org/wp-content/uploads/2024/11/Add-a-heading-63.png
END:VEVENT
BEGIN:VEVENT
DTSTART;TZID=America/New_York:20241211T170000
DTEND;TZID=America/New_York:20241211T193000
DTSTAMP:20260422T124713
CREATED:20241120T145722Z
LAST-MODIFIED:20241216T162536Z
UID:6699-1733936400-1733945400@cfanorthcarolina.org
SUMMARY:Triangle-Holiday Networking: Hartwell Market & Event Space
DESCRIPTION:Join us for an evening of festive cheer and professional connections at our Holiday Networking Event! Celebrate the season with colleagues\, friends\, and new connections while enjoying delicious refreshments and a warm\, welcoming atmosphere. Let’s toast a successful year and new opportunities ahead—don’t miss it! \n\n\n\n*Note: Parking is available in the lot to the left of the building\, behind\, and on the street.
URL:https://cfanorthcarolina.org/event/triangle-holiday-networking-hartwell-market-event-space/
LOCATION:Hartwell\, 629 W. South Street\, Raleigh\, North Carolina\, 27603
CATEGORIES:Networking
ATTACH;FMTTYPE=image/png:https://cfanorthcarolina.org/wp-content/uploads/2024/11/Holiday-Countdown-Sale-7.png
END:VEVENT
BEGIN:VEVENT
DTSTART;TZID=America/New_York:20241214T123000
DTEND;TZID=America/New_York:20241214T143000
DTSTAMP:20260422T124713
CREATED:20240917T160946Z
LAST-MODIFIED:20240917T160948Z
UID:6619-1734179400-1734186600@cfanorthcarolina.org
SUMMARY:Level I Ethics Workshop
DESCRIPTION:Professions can only exist within an industry when those acting with transparency\, integrity\, candor\, and trust reach a critical mass. Come join Ken Yee\, CFA\, CPA\, JD as he analyses CFA Institute’s Code of Ethics and Standards of Professional Conduct within the Level I CFA Curriculum as well as provide some test taking tips for the Level I exam.This discussion will follow CFA Institute’s Learning Outcome Statements for 2025 Level I CFA Curriculum Volume 6 Ethical and Professional Standards Modules 1-3: \n\n\n\nExplain the ethical responsibilities required by the Code and Standards\, including the sub-sections of each Standard. \n\n\n\nExplain Ethics. \n\n\n\nDescribe the role of a code of ethics in defining a profession. \n\n\n\nDescribe professions and how they establish trust. \n\n\n\nDescribe the need for high ethical standards in investment management. \n\n\n\nExplain professionalism in investment management. \n\n\n\nIdentify challenges to ethical behavior compare and contrast ethical standards with legal standards. \n\n\n\nDescribe a framework for ethical decision making. \n\n\n\nDescribe the structure of the CFA Institute Professional Conduct Program and the process for the enforcement of the Code and Standards. \n\n\n\nIdentify the six components of the Code of Ethics and the seven Standards of Professional Conduct.
URL:https://cfanorthcarolina.org/event/level-i-ethics-workshop-2/
CATEGORIES:Candidate Focused Event,Virtual
ATTACH;FMTTYPE=image/png:https://cfanorthcarolina.org/wp-content/uploads/2024/09/Add-a-heading-51.png
END:VEVENT
END:VCALENDAR