BEGIN:VCALENDAR
VERSION:2.0
PRODID:-//CFA Society North Carolina - ECPv6.15.17.1//NONSGML v1.0//EN
CALSCALE:GREGORIAN
METHOD:PUBLISH
X-ORIGINAL-URL:https://cfanorthcarolina.org
X-WR-CALDESC:Events for CFA Society North Carolina
REFRESH-INTERVAL;VALUE=DURATION:PT1H
X-Robots-Tag:noindex
X-PUBLISHED-TTL:PT1H
BEGIN:VTIMEZONE
TZID:America/New_York
BEGIN:DAYLIGHT
TZOFFSETFROM:-0500
TZOFFSETTO:-0400
TZNAME:EDT
DTSTART:20230312T070000
END:DAYLIGHT
BEGIN:STANDARD
TZOFFSETFROM:-0400
TZOFFSETTO:-0500
TZNAME:EST
DTSTART:20231105T060000
END:STANDARD
BEGIN:DAYLIGHT
TZOFFSETFROM:-0500
TZOFFSETTO:-0400
TZNAME:EDT
DTSTART:20240310T070000
END:DAYLIGHT
BEGIN:STANDARD
TZOFFSETFROM:-0400
TZOFFSETTO:-0500
TZNAME:EST
DTSTART:20241103T060000
END:STANDARD
BEGIN:DAYLIGHT
TZOFFSETFROM:-0500
TZOFFSETTO:-0400
TZNAME:EDT
DTSTART:20250309T070000
END:DAYLIGHT
BEGIN:STANDARD
TZOFFSETFROM:-0400
TZOFFSETTO:-0500
TZNAME:EST
DTSTART:20251102T060000
END:STANDARD
END:VTIMEZONE
BEGIN:VEVENT
DTSTART;TZID=America/New_York:20240910T120000
DTEND;TZID=America/New_York:20240910T131500
DTSTAMP:20260422T174416
CREATED:20240820T124715Z
LAST-MODIFIED:20240913T161804Z
UID:6538-1725969600-1725974100@cfanorthcarolina.org
SUMMARY:CLT-Can Gold and Crypto Co-Exist in a Portfolio?
DESCRIPTION:As the global markets ebb and flow\, the ongoing discussion on whether to invest in crypto or gold remains a focal point for investors. Crypto and gold play distinct roles in investment strategies. While both are viewed as hedges\, their market dynamics don’t always align. \n\n\n\nSpeaker Bios: \n\n\n\n\n\n\n\nZach Pandl is managing director of research at Grayscale Investments\, the world’s largest digital currency asset manager. Prior to joining Grayscale Zach worked as a macroeconomist and markets strategist at a variety of Wall Street firms\, including Goldman Sachs\, Nomura Securities\, and Lehman Brothers. Zach holds a bachelor’s degree in international economics from the University of St. Thomas and a master’s degree in economics from New York University \n\n\n\n\n\n\n\nDiego Andrade is a Vice President of State Street Global Advisors and a Gold Senior Strategist in the Global SPDR ETF Business. He is responsible for providing insights on any developments that could influence the price of gold. Prior to joining SSGA\, Diego spent six years at Fidelity Investments\, the last three as a Financial Planner in the downtown Manhattan office. He started his career in Fidelity’s trading desk and has been working in the industry since 2007. \n\n\n\nDiego has a BS in Finance from the University of Massachusetts Boston and his MBA in Finance from Babson College\, F.W. Olin Graduate School of Business.
URL:https://cfanorthcarolina.org/event/clt-can-gold-and-crypto-co-exist-in-a-portfolio/
LOCATION:Morton’s the Steakhouse\, 227 W Trade St #150\, Charlotte\, NC\, 28202\, United States
CATEGORIES:Monthly Meeting
ATTACH;FMTTYPE=image/png:https://cfanorthcarolina.org/wp-content/uploads/2024/09/Add-a-heading-48.png
END:VEVENT
BEGIN:VEVENT
DTSTART;TZID=America/New_York:20240910T170000
DTEND;TZID=America/New_York:20240910T190000
DTSTAMP:20260422T174416
CREATED:20240823T184528Z
LAST-MODIFIED:20240823T184529Z
UID:6562-1725987600-1725994800@cfanorthcarolina.org
SUMMARY:Triad Networking-Incendiary Brewing
DESCRIPTION:You’re invited to a networking event at Incendiary Brewing\, where members and guests can connect over craft beers and great conversation. Join us for an evening of casual mingling\, where you can unwind\, make new friends\, and catch up with familiar faces. Raise a glass with us and enjoy a fun night of networking in a relaxed atmosphere! All members\, candidates\, and friends in the financial industry are welcome.
URL:https://cfanorthcarolina.org/event/triad-networking-incendiary-brewing-2/
LOCATION:Incendiary Brewing Company\, 486 N. Patterson Avenue\, #105\, Winston Salem\, North Carolina\, 27101
CATEGORIES:Networking
ATTACH;FMTTYPE=image/png:https://cfanorthcarolina.org/wp-content/uploads/2024/08/Wine-and-Network-12.png
END:VEVENT
BEGIN:VEVENT
DTSTART;TZID=America/New_York:20240910T200000
DTEND;TZID=America/New_York:20241112T220000
DTSTAMP:20260422T174416
CREATED:20240917T155853Z
LAST-MODIFIED:20240917T160340Z
UID:6614-1725998400-1731448800@cfanorthcarolina.org
SUMMARY:Fixed Income Series
DESCRIPTION:This educational course is designed for those seeking to gain a broader understanding of fixed income strategies. A sound understanding of fixed income markets and strategies is fundamental for all serious finance and investment professionals. This course examines the characteristics\, benefits\, and risks of the various fixed income strategies including treasuries\, agencies\, MBS\, international\, municipal\, corporate\, and derivatives. Professionals from prominent local investment firms will lead this series so attendees will obtain unique perspectives on the current market. Instructors will also share their insights on asset allocation and risk management. As a course participant\, you will have access to the corresponding course recording. If you sign up as a series registrant\, you will have access to all 10 course recordings. Access to course recordings expire after 60 days. 
URL:https://cfanorthcarolina.org/event/fixed-income-series-3/
CATEGORIES:Co-Sponsored Event,Virtual
ATTACH;FMTTYPE=image/png:https://cfanorthcarolina.org/wp-content/uploads/2024/09/Add-a-heading-54.png
END:VEVENT
BEGIN:VEVENT
DTSTART;TZID=America/New_York:20240911T080000
DTEND;TZID=America/New_York:20240911T091500
DTSTAMP:20260422T174416
CREATED:20240820T125452Z
LAST-MODIFIED:20240903T142948Z
UID:6545-1726041600-1726046100@cfanorthcarolina.org
SUMMARY:Triad-Can Gold and Crypto Co-Exist in a Portfolio?
DESCRIPTION:As the global markets ebb and flow\, the ongoing discussion on whether to invest in crypto or gold remains a focal point for investors. Crypto and gold play distinct roles in investment strategies. While both are viewed as hedges\, their market dynamics don’t always align. \n\n\n\nSpeaker Bio:  \n\n\n\n\n\n\n\nZach Pandl is managing director of research at Grayscale Investments\, the world’s largest digital currency asset manager. Prior to joining Grayscale Zach worked as a macroeconomist and markets strategist at a variety of Wall Street firms\, including Goldman Sachs\, Nomura Securities\, and Lehman Brothers. Zach holds a bachelor’s degree in international economics from the University of St. Thomas and a master’s degree in economics from New York University. \n\n\n\n\n\n\n\nDiego Andrade is a Vice President of State Street Global Advisors and a Gold Senior Strategist in the Global SPDR ETF Business. He is responsible for providing insights on any developments that could influence the price of gold. Prior to joining SSGA\, Diego spent six years at Fidelity Investments\, the last three as a Financial Planner in the downtown Manhattan office. He started his career in Fidelity’s trading desk and has been working in the industry since 2007. \n\n\n\nDiego has a BS in Finance from the University of Massachusetts Boston and his MBA in Finance from Babson College\, F.W. Olin Graduate School of Business.
URL:https://cfanorthcarolina.org/event/triad-can-gold-and-crypto-co-exist-in-a-portfolio/
LOCATION:Forsyth Country Club\, Winston Salem\, NC\, United States
CATEGORIES:Monthly Meeting
ATTACH;FMTTYPE=image/png:https://cfanorthcarolina.org/wp-content/uploads/2024/09/Add-a-heading-48.png
END:VEVENT
BEGIN:VEVENT
DTSTART;TZID=America/New_York:20240911T120000
DTEND;TZID=America/New_York:20240911T131500
DTSTAMP:20260422T174416
CREATED:20240820T125844Z
LAST-MODIFIED:20240903T143603Z
UID:6549-1726056000-1726060500@cfanorthcarolina.org
SUMMARY:Triangle-Can Gold and Crypto Co-Exist in a Portfolio?
DESCRIPTION:As the global markets ebb and flow\, the ongoing discussion on whether to invest in crypto or gold remains a focal point for investors. Crypto and gold play distinct roles in investment strategies. While both are viewed as hedges\, their market dynamics don’t always align. \n\n\n\nSpeaker Bio: \n\n\n\n\n\n\n\nZach Pandl is managing director of research at Grayscale Investments\, the world’s largest digital currency asset manager. Prior to joining Grayscale Zach worked as a macroeconomist and markets strategist at a variety of Wall Street firms\, including Goldman Sachs\, Nomura Securities\, and Lehman Brothers. Zach holds a bachelor’s degree in international economics from the University of St. Thomas and a master’s degree in economics from New York University. \n\n\n\n\n\n\n\nDiego Andrade is a Vice President of State Street Global Advisors and a Gold Senior Strategist in the Global SPDR ETF Business. He is responsible for providing insights on any developments that could influence the price of gold. Prior to joining SSGA\, Diego spent six years at Fidelity Investments\, the last three as a Financial Planner in the downtown Manhattan office. He started his career in Fidelity’s trading desk and has been working in the industry since 2007. \n\n\n\nDiego has a BS in Finance from the University of Massachusetts Boston and his MBA in Finance from Babson College\, F.W. Olin Graduate School of Business.
URL:https://cfanorthcarolina.org/event/triangle-can-gold-and-crypto-co-exist-in-a-portfolio/
LOCATION:Flemings Steakhouse\, Crabtree Valley Mall\, Glenwood Ave #5004\, Raleigh\, NC\, United States
CATEGORIES:Monthly Meeting
ATTACH;FMTTYPE=image/png:https://cfanorthcarolina.org/wp-content/uploads/2024/09/Add-a-heading-48.png
END:VEVENT
BEGIN:VEVENT
DTSTART;TZID=America/New_York:20240912T120000
DTEND;TZID=America/New_York:20240912T130000
DTSTAMP:20260422T174416
CREATED:20240425T185007Z
LAST-MODIFIED:20240425T185008Z
UID:6399-1726142400-1726146000@cfanorthcarolina.org
SUMMARY:Webinar Career Series: Embracing Accountability: Foster Ownership and Drive Results in Your Team
DESCRIPTION:Accountability is a vital component of high-performing teams and organizations. In this training session\, participants will explore the concept of accountability and its impact on individual and team performance. By understanding the importance of personal responsibility\, clear expectations\, and open communication\, leaders can cultivate a culture of ownership and accountability. This session will provide practical tools and strategies for fostering accountability and driving exceptional results within your team.
URL:https://cfanorthcarolina.org/event/webinar-career-series-embracing-accountability-foster-ownership-and-drive-results-in-your-team/
CATEGORIES:Virtual
ATTACH;FMTTYPE=image/png:https://cfanorthcarolina.org/wp-content/uploads/2024/04/Add-a-heading-36.png
END:VEVENT
BEGIN:VEVENT
DTSTART;TZID=America/New_York:20240912T173000
DTEND;TZID=America/New_York:20240912T193000
DTSTAMP:20260422T174416
CREATED:20240820T130222Z
LAST-MODIFIED:20240820T130224Z
UID:6552-1726162200-1726169400@cfanorthcarolina.org
SUMMARY:Asheville Networking
DESCRIPTION:We are excited to host a networking event in Asheville! Please join us to connect with local or visiting Charterholders as well as members of the financial community.
URL:https://cfanorthcarolina.org/event/asheville-networking/
LOCATION:The Observatory Rooftop Bar at the Restoration Hotel\, 68 Patton Avenue-6th Floor\, Asheville\, North Carolina\, 28801
CATEGORIES:Networking
ATTACH;FMTTYPE=image/png:https://cfanorthcarolina.org/wp-content/uploads/2024/08/Wine-and-Network-11.png
END:VEVENT
BEGIN:VEVENT
DTSTART;TZID=America/New_York:20240925T120000
DTEND;TZID=America/New_York:20240925T130000
DTSTAMP:20260422T174416
CREATED:20240807T210949Z
LAST-MODIFIED:20240807T210950Z
UID:6520-1727265600-1727269200@cfanorthcarolina.org
SUMMARY:Webinar Series: Beyond Active and Passive: The Customization of Finance
DESCRIPTION:The common narrative that passive investing will overtake active management suggests a primarily passive future for investors. However\, an analysis of fund AUM data across time and regions offers a starkly different perspective on the future of investment management.  \n\n\n\nContrary to popular belief\, active management continues to dominate passive investing as measured by worldwide assets under management (AUM). Even though index fund AUM has seen a 1\,500-fold increase from 1989\, it still only represented 32% of all fund AUM by the end 2021. Assertions about the dominance of passive investing are largely based upon a few exceptions – most notably for equity funds in the US Large Cap Blend category\, where index funds contain three times as much AUM as their active counterparts. In other regions and across asset classes\, index funds are not nearly as prevalent. Generalizations based on US Large Cap Blend equity funds are misleading.
URL:https://cfanorthcarolina.org/event/webinar-series-beyond-active-and-passive-the-customization-of-finance/
CATEGORIES:Special Invitation for CFANC Members,Webinar
ATTACH;FMTTYPE=image/png:https://cfanorthcarolina.org/wp-content/uploads/2024/08/Add-a-heading-44.png
END:VEVENT
END:VCALENDAR