BEGIN:VCALENDAR
VERSION:2.0
PRODID:-//CFA Society North Carolina - ECPv6.15.17.1//NONSGML v1.0//EN
CALSCALE:GREGORIAN
METHOD:PUBLISH
X-WR-CALNAME:CFA Society North Carolina
X-ORIGINAL-URL:https://cfanorthcarolina.org
X-WR-CALDESC:Events for CFA Society North Carolina
REFRESH-INTERVAL;VALUE=DURATION:PT1H
X-Robots-Tag:noindex
X-PUBLISHED-TTL:PT1H
BEGIN:VTIMEZONE
TZID:America/New_York
BEGIN:DAYLIGHT
TZOFFSETFROM:-0500
TZOFFSETTO:-0400
TZNAME:EDT
DTSTART:20210314T070000
END:DAYLIGHT
BEGIN:STANDARD
TZOFFSETFROM:-0400
TZOFFSETTO:-0500
TZNAME:EST
DTSTART:20211107T060000
END:STANDARD
BEGIN:DAYLIGHT
TZOFFSETFROM:-0500
TZOFFSETTO:-0400
TZNAME:EDT
DTSTART:20220313T070000
END:DAYLIGHT
BEGIN:STANDARD
TZOFFSETFROM:-0400
TZOFFSETTO:-0500
TZNAME:EST
DTSTART:20221106T060000
END:STANDARD
BEGIN:DAYLIGHT
TZOFFSETFROM:-0500
TZOFFSETTO:-0400
TZNAME:EDT
DTSTART:20230312T070000
END:DAYLIGHT
BEGIN:STANDARD
TZOFFSETFROM:-0400
TZOFFSETTO:-0500
TZNAME:EST
DTSTART:20231105T060000
END:STANDARD
END:VTIMEZONE
BEGIN:VEVENT
DTSTART;TZID=America/New_York:20220303T170000
DTEND;TZID=America/New_York:20220303T174500
DTSTAMP:20260420T150407
CREATED:20220209T152614Z
LAST-MODIFIED:20220209T152616Z
UID:4620-1646326800-1646329500@cfanorthcarolina.org
SUMMARY:Identifying and Managing Equity Downside Risk 
DESCRIPTION:Is it worthwhile for investors to predict and defend against equity market downturns? If so\, what is the best way to defend? This presentation will cover: \n\n\n\nWhat conditions usually signal heightened equity downside risk?What are the pros and cons of common equity defense strategies?What is the risk of a large/sustained downturn now?
URL:https://cfanorthcarolina.org/event/identifying-and-managing-equity-downside-risk/
CATEGORIES:Webinar
ATTACH;FMTTYPE=image/png:https://cfanorthcarolina.org/wp-content/uploads/2022/02/Copy-of-CFANC-Facebook-940x788-1.png
END:VEVENT
BEGIN:VEVENT
DTSTART;TZID=America/New_York:20220308T163000
DTEND;TZID=America/New_York:20220308T171500
DTSTAMP:20260420T150407
CREATED:20220301T144620Z
LAST-MODIFIED:20220301T205132Z
UID:4763-1646757000-1646759700@cfanorthcarolina.org
SUMMARY:Charting Disruption: Innovation in Equities
DESCRIPTION:Join this conversation between Pedro Palandrani\, Thematic Research Analyst from Global X ETFs and Mario Valente\, Deputy CIO of Stansberry Asset Management as they explore the convergence of several digital technologies including robotics and electric mobility. They will also discuss how a new generation of consumers\, with distinct preferences\, are rapidly changing demand for key staples\, while unique climate change challenges are heralding an evolving relationship with the physical environment. Hear how this disruption is creating unprecedented opportunities\, while also upending many long-standing industries.
URL:https://cfanorthcarolina.org/event/charting-disruption-innovatoin-in-equities/
CATEGORIES:Webinar
ATTACH;FMTTYPE=image/png:https://cfanorthcarolina.org/wp-content/uploads/2022/03/Copy-of-CFANC-Facebook-940x788-9.png
END:VEVENT
BEGIN:VEVENT
DTSTART;TZID=America/New_York:20220315T180000
DTEND;TZID=America/New_York:20220315T193000
DTSTAMP:20260420T150407
CREATED:20220301T145159Z
LAST-MODIFIED:20220302T204456Z
UID:4766-1647367200-1647372600@cfanorthcarolina.org
SUMMARY:Real Estate: What May be in Store for the Frothy US Housing Market
DESCRIPTION:With housing prices surpassing all-time highs and the Property Technology sector is disrupting every part of the home buying process from listing homes\, to loans\, to home ownership\, the residential real estate world is on lots of people’s minds. Hear insights from Ivy Zelman\, CEO of Zelman Associates\, a preeminent boutique research and investment firm dedicated exclusively to the housing industry. Ivy is a nationally recognized expert in the industry. Ivy’s presentation will be followed by a conversation between Ivy and Eric Sussman\, adjunct professor in accounting and real estate at UCLA Anderson and founding partner at Clear Capital\, LLC. \n\n\n\nThis event is in collaboration with the 16 Western Region CFA Societies. \n\n\n\n$10 discount using code: 2022WRCFA
URL:https://cfanorthcarolina.org/event/real-estate-what-may-be-in-store-for-the-frothy-us-housing-market/
CATEGORIES:Webinar
ATTACH;FMTTYPE=image/png:https://cfanorthcarolina.org/wp-content/uploads/2022/03/Copy-of-CFANC-Facebook-940x788-1.png
END:VEVENT
BEGIN:VEVENT
DTSTART;TZID=America/New_York:20220322T123000
DTEND;TZID=America/New_York:20220322T132000
DTSTAMP:20260420T150407
CREATED:20220301T145501Z
LAST-MODIFIED:20220301T145502Z
UID:4768-1647952200-1647955200@cfanorthcarolina.org
SUMMARY:World Water Day: Investing in our Most Valuable Resource
DESCRIPTION:Join us on World Water Day to hear experts discuss how investors can improve global water scarcity while positioning portfolios to benefit from attractive opportunities in the space. They will examine water consumption patterns\, climate change\, supply disruptions\, and what the private sector can do via infrastructure investment to bring balance to the supply/demand gap of this precious resource. Topics include: \n\n\n\nWater consumption has increased by more than 150% in the past five decades worldwide yet supply—mainly from rainwater—remains unevenly distributed\, leaving few choices to address water shortages.The need for water-related investment over the next decade is worldwide. In Europe and the United States alone\, billions of dollars will be spent on water infrastructure where demand for water is outpacing supply\, driven by population growth\, expansion of agriculture\, and more water-intensive consumption as living standards continue to rise.The Global Water Crisis is so severe-a third of the world’s population lacks access to safe drinking water- that the United Nations lists “Ensuring access to water and sanitation for all” as one of its 17 Sustainable Development Goals. Achieving that goal requires a massive buildout of infrastructure driven by thoughtful management of investment capital.Climate change is exacerbating water challenges as we experience more severe weather patterns\, prolonged droughts\, flooding\, and unseasonal temperatures. As a result\, places that once had adequate water (including our own California and other Western States) may now require significant infrastructure upgrades to meet individual and industrial needs.\n\n\n\nThis event is offered in partnership with Virtus.
URL:https://cfanorthcarolina.org/event/world-water-day-investing-in-our-most-valuable-resource/
CATEGORIES:Webinar
ATTACH;FMTTYPE=image/png:https://cfanorthcarolina.org/wp-content/uploads/2022/03/Copy-of-CFANC-Facebook-940x788-8.png
END:VEVENT
BEGIN:VEVENT
DTSTART;TZID=America/New_York:20220324T080000
DTEND;TZID=America/New_York:20220324T090000
DTSTAMP:20260420T150407
CREATED:20220128T143327Z
LAST-MODIFIED:20220128T143328Z
UID:4567-1648108800-1648112400@cfanorthcarolina.org
SUMMARY:CEO's Insights: Analyzing Global Earnings Calls at Big Data Scale
DESCRIPTION:Investment decision makers are constantly on the lookout for an edge. Natural language processing (NLP) brings both scale and speed to investing. NLP techniques can be used to analyze a variety of data sources\, including company news\, earnings calls\, and even social media. The output from these models can be used for stock selection with varying time horizons and degrees of alpha capture. Join this webinar to explore these machine learning techniques to analyze global earnings calls.
URL:https://cfanorthcarolina.org/event/ceos-insights-analyzing-global-earnings-calls-at-big-data-scale/
CATEGORIES:Virtual,Webinar
ATTACH;FMTTYPE=image/png:https://cfanorthcarolina.org/wp-content/uploads/2022/01/Copy-of-CFANC-Facebook-940x788-1-1.png
END:VEVENT
END:VCALENDAR