BEGIN:VCALENDAR
VERSION:2.0
PRODID:-//CFA Society North Carolina - ECPv6.15.17.1//NONSGML v1.0//EN
CALSCALE:GREGORIAN
METHOD:PUBLISH
X-WR-CALNAME:CFA Society North Carolina
X-ORIGINAL-URL:https://cfanorthcarolina.org
X-WR-CALDESC:Events for CFA Society North Carolina
REFRESH-INTERVAL;VALUE=DURATION:PT1H
X-Robots-Tag:noindex
X-PUBLISHED-TTL:PT1H
BEGIN:VTIMEZONE
TZID:America/New_York
BEGIN:DAYLIGHT
TZOFFSETFROM:-0500
TZOFFSETTO:-0400
TZNAME:EDT
DTSTART:20210314T070000
END:DAYLIGHT
BEGIN:STANDARD
TZOFFSETFROM:-0400
TZOFFSETTO:-0500
TZNAME:EST
DTSTART:20211107T060000
END:STANDARD
BEGIN:DAYLIGHT
TZOFFSETFROM:-0500
TZOFFSETTO:-0400
TZNAME:EDT
DTSTART:20220313T070000
END:DAYLIGHT
BEGIN:STANDARD
TZOFFSETFROM:-0400
TZOFFSETTO:-0500
TZNAME:EST
DTSTART:20221106T060000
END:STANDARD
BEGIN:DAYLIGHT
TZOFFSETFROM:-0500
TZOFFSETTO:-0400
TZNAME:EDT
DTSTART:20230312T070000
END:DAYLIGHT
BEGIN:STANDARD
TZOFFSETFROM:-0400
TZOFFSETTO:-0500
TZNAME:EST
DTSTART:20231105T060000
END:STANDARD
END:VTIMEZONE
BEGIN:VEVENT
DTSTART;TZID=America/New_York:20220126T170000
DTEND;TZID=America/New_York:20220126T174500
DTSTAMP:20260420T183837
CREATED:20211220T163735Z
LAST-MODIFIED:20211220T163737Z
UID:4468-1643216400-1643219100@cfanorthcarolina.org
SUMMARY:Filling the Demand for Greater Cognitive Diversity in the Financial Industry
DESCRIPTION:Bringing more cognitive diversity into our industry starts with getting young people of diverse backgrounds engaged with math and exposed to a possible career in finance. CFA Society San Francisco presents a LIVE Fireside Chat with leaders of Rock the Street\, Wall Street (RTSWS)\, a financial and investment literacy program designed to spark the interest of a diverse population of high school girls into careers of finance. \n\n\n\nIn the U.S.\, we start to lose girls in math at age nine. This problem doesn’t exist in many other countries. This is a cultural issue\, not a capability issue. Progress will come as a result of an extensive scale of individuals doing their part to change the trajectory of girls in math in their own environments – be that in schools\, companies\, or homes. RTSWS gets girls re-engaged with the M in STEM\, math\, at a critical age\, when they are on the verge of becoming financially independent; choosing whether or not to go to college; what college they will choose\, and which majors/minors they will study. STEM professions lift people out of poverty in one generation.
URL:https://cfanorthcarolina.org/event/filling-the-demand-for-greater-cognitive-diversity-in-the-financial-industry/
CATEGORIES:Virtual,Webinar
ATTACH;FMTTYPE=image/png:https://cfanorthcarolina.org/wp-content/uploads/2021/12/Copy-of-CFANC-Facebook-940x788-2.png
END:VEVENT
END:VCALENDAR