BEGIN:VCALENDAR
VERSION:2.0
PRODID:-//CFA Society North Carolina - ECPv6.15.17.1//NONSGML v1.0//EN
CALSCALE:GREGORIAN
METHOD:PUBLISH
X-ORIGINAL-URL:https://cfanorthcarolina.org
X-WR-CALDESC:Events for CFA Society North Carolina
REFRESH-INTERVAL;VALUE=DURATION:PT1H
X-Robots-Tag:noindex
X-PUBLISHED-TTL:PT1H
BEGIN:VTIMEZONE
TZID:America/New_York
BEGIN:DAYLIGHT
TZOFFSETFROM:-0500
TZOFFSETTO:-0400
TZNAME:EDT
DTSTART:20190310T070000
END:DAYLIGHT
BEGIN:STANDARD
TZOFFSETFROM:-0400
TZOFFSETTO:-0500
TZNAME:EST
DTSTART:20191103T060000
END:STANDARD
BEGIN:DAYLIGHT
TZOFFSETFROM:-0500
TZOFFSETTO:-0400
TZNAME:EDT
DTSTART:20200308T070000
END:DAYLIGHT
BEGIN:STANDARD
TZOFFSETFROM:-0400
TZOFFSETTO:-0500
TZNAME:EST
DTSTART:20201101T060000
END:STANDARD
BEGIN:DAYLIGHT
TZOFFSETFROM:-0500
TZOFFSETTO:-0400
TZNAME:EDT
DTSTART:20210314T070000
END:DAYLIGHT
BEGIN:STANDARD
TZOFFSETFROM:-0400
TZOFFSETTO:-0500
TZNAME:EST
DTSTART:20211107T060000
END:STANDARD
END:VTIMEZONE
BEGIN:VEVENT
DTSTART;TZID=America/New_York:20201002T073000
DTEND;TZID=America/New_York:20201003T170000
DTSTAMP:20260421T200933
CREATED:20200915T181820Z
LAST-MODIFIED:20200915T181820Z
UID:2788-1601623800-1601744400@cfanorthcarolina.org
SUMMARY:3rd India Fintech Conference 2020
DESCRIPTION:The intersection of Finance & Technology is currently a wild west frontier. Pioneers can make large fortunes and lay claim to brand new pastures. Yet\, the mortality of both incumbents and challengers can often be at stake. Advancements include the use of Big Data\, Artificial Intelligence (AI)\, Block chain and Machine Learning. This is across domains like Payments\, Lending\, Wealth Management\, Insurance and many others. Some industry watchers predict that traditional finance roles may disappear over the next 5 to 20 years. If these predictions are correct\, there may be a first-mover advantage for those who seek to build their fintech experience now\, rather than later. Switching jobs from traditional finance to fintech may seem like a small shift\, but there are key differences in work culture and skill sets that finance professionals should consider.
URL:https://cfanorthcarolina.org/event/3rd-india-fintech-conference-2020/
CATEGORIES:Webinar
END:VEVENT
BEGIN:VEVENT
DTSTART;TZID=America/New_York:20201021T120000
DTEND;TZID=America/New_York:20201021T130000
DTSTAMP:20260421T200933
CREATED:20200806T203113Z
LAST-MODIFIED:20200806T203114Z
UID:2573-1603281600-1603285200@cfanorthcarolina.org
SUMMARY:Ethical Decision Making: Introduction
DESCRIPTION:Ethical Decision-Making webinars are free\, interactive\, case-based webinars led by CFA Institute staff that provide participants with the framework to analyze situations from an ethics perspective. The 60-minute sessions include: \n\n\n\nan examination of the factors that lead well-meaning individuals to make unethical decisions\,an explanation of how to apply a framework for analysis of ethical dilemmas common in investment practice\,several case studies involving real-life situations with the opportunity to vote on the appropriate conduct\,a facilitated discussion of those studies that allow participants to apply ethical framework.
URL:https://cfanorthcarolina.org/event/ethical-decision-making-introduction/
CATEGORIES:Webinar
END:VEVENT
END:VCALENDAR