BEGIN:VCALENDAR
VERSION:2.0
PRODID:-//CFA Society North Carolina - ECPv6.15.17.1//NONSGML v1.0//EN
CALSCALE:GREGORIAN
METHOD:PUBLISH
X-ORIGINAL-URL:https://cfanorthcarolina.org
X-WR-CALDESC:Events for CFA Society North Carolina
REFRESH-INTERVAL;VALUE=DURATION:PT1H
X-Robots-Tag:noindex
X-PUBLISHED-TTL:PT1H
BEGIN:VTIMEZONE
TZID:America/New_York
BEGIN:DAYLIGHT
TZOFFSETFROM:-0500
TZOFFSETTO:-0400
TZNAME:EDT
DTSTART:20190310T070000
END:DAYLIGHT
BEGIN:STANDARD
TZOFFSETFROM:-0400
TZOFFSETTO:-0500
TZNAME:EST
DTSTART:20191103T060000
END:STANDARD
BEGIN:DAYLIGHT
TZOFFSETFROM:-0500
TZOFFSETTO:-0400
TZNAME:EDT
DTSTART:20200308T070000
END:DAYLIGHT
BEGIN:STANDARD
TZOFFSETFROM:-0400
TZOFFSETTO:-0500
TZNAME:EST
DTSTART:20201101T060000
END:STANDARD
BEGIN:DAYLIGHT
TZOFFSETFROM:-0500
TZOFFSETTO:-0400
TZNAME:EDT
DTSTART:20210314T070000
END:DAYLIGHT
BEGIN:STANDARD
TZOFFSETFROM:-0400
TZOFFSETTO:-0500
TZNAME:EST
DTSTART:20211107T060000
END:STANDARD
END:VTIMEZONE
BEGIN:VEVENT
DTSTART;TZID=America/New_York:20200630T140000
DTEND;TZID=America/New_York:20200811T150000
DTSTAMP:20260421T232106
CREATED:20200623T130716Z
LAST-MODIFIED:20220720T133408Z
UID:2215-1593525600-1597158000@cfanorthcarolina.org
SUMMARY:Introducing the Wake Forest University Financial Services & Fintech Hub Speaker Series
DESCRIPTION:Note: This is a free event for CFA Society NC Members. \n\n\n\nExperience a unique opportunity to hear from world-class speakers and experts on topics that address relevant\, top of mind needs of the community. \n\n\n\nJoin us as we connect virtually to learn and navigate together through these new and uncertain times. \n\n\n\nWe will explore topics such as: \n\n\n\n·  Thought Leadership \n\n\n\n·  Cyber Security \n\n\n\n·  Data Analytics \n\n\n\n·  Forecasting & Planning \n\n\n\n·  Risk Management
URL:https://cfanorthcarolina.org/event/introducing-the-wake-forest-university-financial-services-fintech-hub-speaker-series/
CATEGORIES:Webinar
ATTACH;FMTTYPE=image/jpeg:https://cfanorthcarolina.org/wp-content/uploads/2020/06/Untitled-design.jpg
END:VEVENT
BEGIN:VEVENT
DTSTART;TZID=America/New_York:20200804T140000
DTEND;TZID=America/New_York:20200804T150000
DTSTAMP:20260421T232106
CREATED:20200708T201915Z
LAST-MODIFIED:20200708T201916Z
UID:2393-1596549600-1596553200@cfanorthcarolina.org
SUMMARY:ESG and Responsible Institutional Investing Around the World
DESCRIPTION:Corporate exposure to environmental\, social\, and governance (ESG) factors can materially affect companies — learn to manage investment risk by integrating ESG considerations into portfolios and engaging with companies to make them more sustainable. \n\n\n\nDoes the increased interest in ESG investing shown by institutional and private wealth clients mean that we are at the inflection point for a structural change in the way investors allocate resources? The growth in ESG assets under management make it important to understand the trends and driving forces behind ESG investing\, particularly as it pertains to risk management. This webinar with Professor Pedro Matos will explore the substantial body of research on ESG investing\, discussing how these insights can create win–win scenarios for portfolio managers and their clients. He will also discuss whether investors have the data and metrics they need for ESG integration\, examine how institutional investors around the world implement ESG strategies\, and look at whether investors are “walking the ESG talk.” \n\n\n\nProfessor Matos will draw insights and conclusions from the body of academic evidence presented in his CFA Institute Research Foundation publication\, ESG and Responsible Institutional Investing Around the World: A Critical Review. He will also discuss how some of these considerations are accelerating in response to COVID-19. \n\n\n\nThis webinar qualifies for .75 Professional Learning credits. CFA Institute members and charterholders can claim PL credit by providing their CFA Institute ID number when registering.
URL:https://cfanorthcarolina.org/event/esg-and-responsible-institutional-investing-around-the-world/
CATEGORIES:Webinar
END:VEVENT
BEGIN:VEVENT
DTSTART;TZID=America/New_York:20200813T140000
DTEND;TZID=America/New_York:20200813T150000
DTSTAMP:20260421T232106
CREATED:20200806T161440Z
LAST-MODIFIED:20200806T161441Z
UID:2557-1597327200-1597330800@cfanorthcarolina.org
SUMMARY:Building a Diverse Talent Pipeline: Prepare\, Recruit\, Promote\, and Retain Equally
DESCRIPTION:• How do we foster inclusion and diversity in our industry?• What can we do to create the next generation of diverse finance professionals?• What strategies and tactics can prepare candidates for recruitment\, promotion\, and a successful career? \n\n\n\nJoin us for a conversation with leading women in the financial services industry that will be equally relevant for students and employers. \n\n\n\nExplore ways for students to take early ownership of their careers\, learn about the variety of career paths available\, and understand the value of working in finance. We will also discuss how organizations can frame their student outreach to attract those who have yet to learn about the options available in finance. \n\n\n\nThis webinar qualifies for 1 Professional Learning credit. CFA Institute members and charterholders can claim PL credit by providing their CFA Institute ID number when registering.
URL:https://cfanorthcarolina.org/event/building-a-diverse-talent-pipeline-prepare-recruit-promote-and-retain-equally/
CATEGORIES:Webinar
END:VEVENT
BEGIN:VEVENT
DTSTART;TZID=America/New_York:20200820T080000
DTEND;TZID=America/New_York:20200820T090000
DTSTAMP:20260421T232106
CREATED:20200806T201711Z
LAST-MODIFIED:20200806T201712Z
UID:2567-1597910400-1597914000@cfanorthcarolina.org
SUMMARY:CEO’s Insights: Alternative Strategies and Alpha
DESCRIPTION:Hedge fund investing is considered by many as the ultimate frontier in active investing. Active investing is not easy. And alternative strategies that hedge funds use can make success far harder to achieve. This webinar will provide practitioners with a ringside understanding of hedge fund strategies as well as a glimpse of what it takes to successfully run a hedge fund business in India. \n\n\n\nLearning Outcomes:1. An overview of alternative strategies that hedge funds use2. Risk management3. A review of alternative alpha vs. passive investing4. How to set up and run a hedge fund in India \n\n\n\nNote: Members\, please go through the following refresher reading on hedge fund strategies.
URL:https://cfanorthcarolina.org/event/ceos-insights-alternative-strategies-and-alpha/
CATEGORIES:Webinar
END:VEVENT
BEGIN:VEVENT
DTSTART;TZID=America/New_York:20200826T130000
DTEND;TZID=America/New_York:20200826T140000
DTSTAMP:20260421T232106
CREATED:20200806T202044Z
LAST-MODIFIED:20200806T202046Z
UID:2569-1598446800-1598450400@cfanorthcarolina.org
SUMMARY:Using Alternative Data in Investment Decision Making
DESCRIPTION:Join Chief Data Scientist Michael Recce to discuss how investment firms can better integrate data analytics in the investment decision-making process and tap alternative data sources to enhance security analysis. \n\n\n\nAlternative data from non-traditional sources can uncover and validate investment opportunities and manage risks. Professional investors can also benefit from alternative data when past data is no longer relevant — especially during periods of high economic uncertainty or when industries or companies experience extraordinary change. \n\n\n\nLearn how investment firms apply advanced analytical tools to alternative data and integrate the results into their investment process. Recce will discuss how analytics and alternative data can provide early signals for changing trends\, such as customer behavior and more.
URL:https://cfanorthcarolina.org/event/using-alternative-data-in-investment-decision-making/
CATEGORIES:Webinar
END:VEVENT
END:VCALENDAR