BEGIN:VCALENDAR
VERSION:2.0
PRODID:-//CFA Society North Carolina - ECPv6.15.17.1//NONSGML v1.0//EN
CALSCALE:GREGORIAN
METHOD:PUBLISH
X-ORIGINAL-URL:https://cfanorthcarolina.org
X-WR-CALDESC:Events for CFA Society North Carolina
REFRESH-INTERVAL;VALUE=DURATION:PT1H
X-Robots-Tag:noindex
X-PUBLISHED-TTL:PT1H
BEGIN:VTIMEZONE
TZID:America/New_York
BEGIN:DAYLIGHT
TZOFFSETFROM:-0500
TZOFFSETTO:-0400
TZNAME:EDT
DTSTART:20200308T070000
END:DAYLIGHT
BEGIN:STANDARD
TZOFFSETFROM:-0400
TZOFFSETTO:-0500
TZNAME:EST
DTSTART:20201101T060000
END:STANDARD
BEGIN:DAYLIGHT
TZOFFSETFROM:-0500
TZOFFSETTO:-0400
TZNAME:EDT
DTSTART:20210314T070000
END:DAYLIGHT
BEGIN:STANDARD
TZOFFSETFROM:-0400
TZOFFSETTO:-0500
TZNAME:EST
DTSTART:20211107T060000
END:STANDARD
BEGIN:DAYLIGHT
TZOFFSETFROM:-0500
TZOFFSETTO:-0400
TZNAME:EDT
DTSTART:20220313T070000
END:DAYLIGHT
BEGIN:STANDARD
TZOFFSETFROM:-0400
TZOFFSETTO:-0500
TZNAME:EST
DTSTART:20221106T060000
END:STANDARD
END:VTIMEZONE
BEGIN:VEVENT
DTSTART;TZID=America/New_York:20210220T120000
DTEND;TZID=America/New_York:20210220T160000
DTSTAMP:20260419T174050
CREATED:20210216T210424Z
LAST-MODIFIED:20210220T201304Z
UID:3315-1613822400-1613836800@cfanorthcarolina.org
SUMMARY:CFA Institute Research Challenge hosted by CFA Society North Carolina
DESCRIPTION:The CFA Institute Research Challenge is an annual\, global competition that provides university students with hands-on mentoring and intensive training in financial analysis. Students work in teams to research and analyze a publicly-traded company and then write a research report on their assigned company with a buy\, sell\, or hold recommendation.   \n\n\n\nEach Research Challenge season leverages the efforts of over 150+ CFA member societies\, 3\,500+ member volunteers\, and more than 5\,000 students from over 1\,000 universities.     \n\n\n\nThe Challenge gathers students\, investment industry professionals\, publicly traded companies\, and corporate sponsors together locally\, regionally\, and globally for a real-world competition. Additionally\, all participants are introduced to and held to the standard of the CFA Institute Code of Ethics and Standards of Professional Conduct.This year’s subject company is Albemarle Corporation.
URL:https://cfanorthcarolina.org/event/cfa-institute-research-challenge-hosted-by-cfa-society-north-carolina/
LOCATION:North Carolina
CATEGORIES:University,Virtual
ATTACH;FMTTYPE=image/jpeg:https://cfanorthcarolina.org/wp-content/uploads/2021/02/RC_Studen-Presenting_Hero.jpg
END:VEVENT
END:VCALENDAR