BEGIN:VCALENDAR
VERSION:2.0
PRODID:-//CFA Society North Carolina - ECPv6.15.17.1//NONSGML v1.0//EN
CALSCALE:GREGORIAN
METHOD:PUBLISH
X-ORIGINAL-URL:https://cfanorthcarolina.org
X-WR-CALDESC:Events for CFA Society North Carolina
REFRESH-INTERVAL;VALUE=DURATION:PT1H
X-Robots-Tag:noindex
X-PUBLISHED-TTL:PT1H
BEGIN:VTIMEZONE
TZID:America/New_York
BEGIN:DAYLIGHT
TZOFFSETFROM:-0500
TZOFFSETTO:-0400
TZNAME:EDT
DTSTART:20190310T070000
END:DAYLIGHT
BEGIN:STANDARD
TZOFFSETFROM:-0400
TZOFFSETTO:-0500
TZNAME:EST
DTSTART:20191103T060000
END:STANDARD
BEGIN:DAYLIGHT
TZOFFSETFROM:-0500
TZOFFSETTO:-0400
TZNAME:EDT
DTSTART:20200308T070000
END:DAYLIGHT
BEGIN:STANDARD
TZOFFSETFROM:-0400
TZOFFSETTO:-0500
TZNAME:EST
DTSTART:20201101T060000
END:STANDARD
BEGIN:DAYLIGHT
TZOFFSETFROM:-0500
TZOFFSETTO:-0400
TZNAME:EDT
DTSTART:20210314T070000
END:DAYLIGHT
BEGIN:STANDARD
TZOFFSETFROM:-0400
TZOFFSETTO:-0500
TZNAME:EST
DTSTART:20211107T060000
END:STANDARD
END:VTIMEZONE
BEGIN:VEVENT
DTSTART;TZID=America/New_York:20200211T000000
DTEND;TZID=America/New_York:20200211T000000
DTSTAMP:20260422T142730
CREATED:20200221T194531Z
LAST-MODIFIED:20200221T194531Z
UID:672-1581379200-1581379200@cfanorthcarolina.org
SUMMARY:UNCG So You Want a Career in the Investment Management Industry
DESCRIPTION:We have assembled a panel of senior investment management professional to provide advice and guidance to prepare you to meet the challenges of the industry. These experts will address the following questions: \n\nWhat are the typical career paths?\nWhat will you be doing on the job?\nWhat skills are needed to be successful?\n\nSPEAKER\nIndustry Leaders
URL:https://cfanorthcarolina.org/event/uncg-so-you-want-a-career-in-the-investment-management-industry/
LOCATION:UNC-Greensboro\, Greensboro\, NC\, United States
CATEGORIES:University
END:VEVENT
BEGIN:VEVENT
DTSTART;TZID=America/New_York:20200222T000000
DTEND;TZID=America/New_York:20200222T000000
DTSTAMP:20260422T142730
CREATED:20200221T194531Z
LAST-MODIFIED:20200221T194531Z
UID:673-1582329600-1582329600@cfanorthcarolina.org
SUMMARY:2020 CFA Institute Research Challenge hosted by CFA Society North Carolina
DESCRIPTION:You are invited to attend the CFA Institute Research Challenge hosted by CFA Society North Carolina for an exciting competition in which student teams from universities across North Carolina present their own equity investment research on a leading\, North Carolina-based company to a panel of investment industry experts. \nSPEAKER
URL:https://cfanorthcarolina.org/event/2020-cfa-institute-research-challenge-hosted-by-cfa-society-nc/
LOCATION:UNC-Greensboro\, Greensboro\, NC\, United States
CATEGORIES:University
END:VEVENT
END:VCALENDAR