BEGIN:VCALENDAR
VERSION:2.0
PRODID:-//CFA Society North Carolina - ECPv6.15.17.1//NONSGML v1.0//EN
CALSCALE:GREGORIAN
METHOD:PUBLISH
X-WR-CALNAME:CFA Society North Carolina
X-ORIGINAL-URL:https://cfanorthcarolina.org
X-WR-CALDESC:Events for CFA Society North Carolina
REFRESH-INTERVAL;VALUE=DURATION:PT1H
X-Robots-Tag:noindex
X-PUBLISHED-TTL:PT1H
BEGIN:VTIMEZONE
TZID:America/New_York
BEGIN:DAYLIGHT
TZOFFSETFROM:-0500
TZOFFSETTO:-0400
TZNAME:EDT
DTSTART:20170312T070000
END:DAYLIGHT
BEGIN:STANDARD
TZOFFSETFROM:-0400
TZOFFSETTO:-0500
TZNAME:EST
DTSTART:20171105T060000
END:STANDARD
BEGIN:DAYLIGHT
TZOFFSETFROM:-0500
TZOFFSETTO:-0400
TZNAME:EDT
DTSTART:20180311T070000
END:DAYLIGHT
BEGIN:STANDARD
TZOFFSETFROM:-0400
TZOFFSETTO:-0500
TZNAME:EST
DTSTART:20181104T060000
END:STANDARD
BEGIN:DAYLIGHT
TZOFFSETFROM:-0500
TZOFFSETTO:-0400
TZNAME:EDT
DTSTART:20190310T070000
END:DAYLIGHT
BEGIN:STANDARD
TZOFFSETFROM:-0400
TZOFFSETTO:-0500
TZNAME:EST
DTSTART:20191103T060000
END:STANDARD
END:VTIMEZONE
BEGIN:VEVENT
DTSTART;TZID=America/New_York:20180217T000000
DTEND;TZID=America/New_York:20180217T000000
DTSTAMP:20260424T041642
CREATED:20200221T193235Z
LAST-MODIFIED:20200221T193400Z
UID:577-1518825600-1518825600@cfanorthcarolina.org
SUMMARY:2018 CFA Institute Research Challenge hosted by CFA Society North Carolina
DESCRIPTION:You are invited to attend the CFA Institute Research Challenge hosted by CFA Society North Carolina for an exciting competition in which student teams from universities across North Carolina present their own equity investment research on a leading\, North Carolina-based company to a panel of investment industry experts.SPEAKER
URL:https://cfanorthcarolina.org/event/2018-cfa-institute-research-challenge-hosted-by-cfa-society-nc/
LOCATION:UNC-Greensboro\, Greensboro\, NC\, United States
CATEGORIES:University
END:VEVENT
END:VCALENDAR