BEGIN:VCALENDAR
VERSION:2.0
PRODID:-//CFA Society North Carolina - ECPv6.15.17.1//NONSGML v1.0//EN
CALSCALE:GREGORIAN
METHOD:PUBLISH
X-ORIGINAL-URL:https://cfanorthcarolina.org
X-WR-CALDESC:Events for CFA Society North Carolina
REFRESH-INTERVAL;VALUE=DURATION:PT1H
X-Robots-Tag:noindex
X-PUBLISHED-TTL:PT1H
BEGIN:VTIMEZONE
TZID:America/New_York
BEGIN:DAYLIGHT
TZOFFSETFROM:-0500
TZOFFSETTO:-0400
TZNAME:EDT
DTSTART:20160313T070000
END:DAYLIGHT
BEGIN:STANDARD
TZOFFSETFROM:-0400
TZOFFSETTO:-0500
TZNAME:EST
DTSTART:20161106T060000
END:STANDARD
BEGIN:DAYLIGHT
TZOFFSETFROM:-0500
TZOFFSETTO:-0400
TZNAME:EDT
DTSTART:20170312T070000
END:DAYLIGHT
BEGIN:STANDARD
TZOFFSETFROM:-0400
TZOFFSETTO:-0500
TZNAME:EST
DTSTART:20171105T060000
END:STANDARD
BEGIN:DAYLIGHT
TZOFFSETFROM:-0500
TZOFFSETTO:-0400
TZNAME:EDT
DTSTART:20180311T070000
END:DAYLIGHT
BEGIN:STANDARD
TZOFFSETFROM:-0400
TZOFFSETTO:-0500
TZNAME:EST
DTSTART:20181104T060000
END:STANDARD
END:VTIMEZONE
BEGIN:VEVENT
DTSTART;TZID=America/New_York:20170225T000000
DTEND;TZID=America/New_York:20170225T000000
DTSTAMP:20260424T214655
CREATED:20200221T193223Z
LAST-MODIFIED:20200221T193224Z
UID:531-1487980800-1487980800@cfanorthcarolina.org
SUMMARY:2017 CFA Institute Research Challenge hosted by CFA Society North Carolina
DESCRIPTION:You are invited to attend the CFA Institute Research Challenge hosted by CFA Society North Carolina for an exciting competition in which student teams from universities across North Carolina present their own equity investment research on a leading\, North Carolina-based company to a panel of investment industry experts. \nSPEAKER
URL:https://cfanorthcarolina.org/event/2017-cfa-institute-research-challenge-hosted-by-cfa-society-nc/
LOCATION:UNC-Greensboro\, Greensboro\, NC\, United States
CATEGORIES:University
END:VEVENT
END:VCALENDAR