BEGIN:VCALENDAR
VERSION:2.0
PRODID:-//CFA Society North Carolina - ECPv6.15.17.1//NONSGML v1.0//EN
CALSCALE:GREGORIAN
METHOD:PUBLISH
X-ORIGINAL-URL:https://cfanorthcarolina.org
X-WR-CALDESC:Events for CFA Society North Carolina
REFRESH-INTERVAL;VALUE=DURATION:PT1H
X-Robots-Tag:noindex
X-PUBLISHED-TTL:PT1H
BEGIN:VTIMEZONE
TZID:America/New_York
BEGIN:DAYLIGHT
TZOFFSETFROM:-0500
TZOFFSETTO:-0400
TZNAME:EDT
DTSTART:20190310T070000
END:DAYLIGHT
BEGIN:STANDARD
TZOFFSETFROM:-0400
TZOFFSETTO:-0500
TZNAME:EST
DTSTART:20191103T060000
END:STANDARD
BEGIN:DAYLIGHT
TZOFFSETFROM:-0500
TZOFFSETTO:-0400
TZNAME:EDT
DTSTART:20200308T070000
END:DAYLIGHT
BEGIN:STANDARD
TZOFFSETFROM:-0400
TZOFFSETTO:-0500
TZNAME:EST
DTSTART:20201101T060000
END:STANDARD
BEGIN:DAYLIGHT
TZOFFSETFROM:-0500
TZOFFSETTO:-0400
TZNAME:EDT
DTSTART:20210314T070000
END:DAYLIGHT
BEGIN:STANDARD
TZOFFSETFROM:-0400
TZOFFSETTO:-0500
TZNAME:EST
DTSTART:20211107T060000
END:STANDARD
END:VTIMEZONE
BEGIN:VEVENT
DTSTART;TZID=America/New_York:20200415T080000
DTEND;TZID=America/New_York:20200415T170000
DTSTAMP:20260422T175049
CREATED:20200210T202308Z
LAST-MODIFIED:20220929T192126Z
UID:96-1586937600-1586970000@cfanorthcarolina.org
SUMMARY:Triangle-ESG Integration
DESCRIPTION:In an environment where ESG funds are facing growing questions from regulators over the criteria they use\, how can investment professionals address the challenges of ESG integration and engage in best practices? \n\n\n\nJoin Matt Orsagh\, CFA\, and hear the results of four reports produced by CFA Institute and the U.N. Principles for Responsible Investment. Examine relevant issues and learn: \n\n\n\nThe advantages and limitations of ESG dataGlobal best practices in ESG integrationThe challenges of performing ESG integration without common definitionsRecent developments in ESG standards\, ESG reporting\, and standards around climate change disclosures \n\n\n\nSpeaker Bio:\n\n\n\nMatthew Orsagh is a director\, capital markets policy\, at CFA Institute\, where he writes and speaks about pressing issues in global market integrity and corporate governance. He leads projects aimed at fostering greater transparency and accountability in global financial markets; promulgates CFA Institute’s Capital Markets Policy Group corporate disclosure positions\, policies\, and standards; and coordinates and supports related public awareness activities. Mr. Orsagh’s expertise is in the area of corporate governance and disclosure best practices\, ESG\, share owner rights\, short-termism\, and financial regulation. He was previously named one of the “Rising Stars of Corporate Governance” by the Millstein Center for Corporate Governance and Performance at the Yale School of Management. Mr. Orsagh holds a BA degree in Communications and English from the University of Notre Dame and an MBA degree in Finance from Georgia State University.
URL:https://cfanorthcarolina.org/event/esg-integration/
LOCATION:Forsyth Country Club\, Winston Salem\, NC\, United States
CATEGORIES:Monthly Meeting,Networking,Premier Event
END:VEVENT
END:VCALENDAR