BEGIN:VCALENDAR
VERSION:2.0
PRODID:-//CFA Society North Carolina - ECPv6.15.17.1//NONSGML v1.0//EN
CALSCALE:GREGORIAN
METHOD:PUBLISH
X-ORIGINAL-URL:https://cfanorthcarolina.org
X-WR-CALDESC:Events for CFA Society North Carolina
REFRESH-INTERVAL;VALUE=DURATION:PT1H
X-Robots-Tag:noindex
X-PUBLISHED-TTL:PT1H
BEGIN:VTIMEZONE
TZID:America/New_York
BEGIN:DAYLIGHT
TZOFFSETFROM:-0500
TZOFFSETTO:-0400
TZNAME:EDT
DTSTART:20220313T070000
END:DAYLIGHT
BEGIN:STANDARD
TZOFFSETFROM:-0400
TZOFFSETTO:-0500
TZNAME:EST
DTSTART:20221106T060000
END:STANDARD
BEGIN:DAYLIGHT
TZOFFSETFROM:-0500
TZOFFSETTO:-0400
TZNAME:EDT
DTSTART:20230312T070000
END:DAYLIGHT
BEGIN:STANDARD
TZOFFSETFROM:-0400
TZOFFSETTO:-0500
TZNAME:EST
DTSTART:20231105T060000
END:STANDARD
BEGIN:DAYLIGHT
TZOFFSETFROM:-0500
TZOFFSETTO:-0400
TZNAME:EDT
DTSTART:20240310T070000
END:DAYLIGHT
BEGIN:STANDARD
TZOFFSETFROM:-0400
TZOFFSETTO:-0500
TZNAME:EST
DTSTART:20241103T060000
END:STANDARD
END:VTIMEZONE
BEGIN:VEVENT
DTSTART;TZID=America/New_York:20231004T173000
DTEND;TZID=America/New_York:20231004T193000
DTSTAMP:20260419T105855
CREATED:20230906T155634Z
LAST-MODIFIED:20230906T155635Z
UID:5900-1696440600-1696447800@cfanorthcarolina.org
SUMMARY:Triangle Networking
DESCRIPTION:Join us for our next Networking Event\, which alternates locations and venues around the Triangle area. All members\, candidates\, and friends of the society are welcome to join us for this networking event! Please RSVP and let us know if you can attend.
URL:https://cfanorthcarolina.org/event/triangle-networking-3/
LOCATION:Tap Yard Raleigh\, 1610 Automotive Way\, Raleigh\, North Carolina\, 27604
CATEGORIES:Networking
ATTACH;FMTTYPE=image/png:https://cfanorthcarolina.org/wp-content/uploads/2023/09/Networking-Event-5.png
END:VEVENT
BEGIN:VEVENT
DTSTART;TZID=America/New_York:20231005T173000
DTEND;TZID=America/New_York:20231005T193000
DTSTAMP:20260419T105855
CREATED:20230927T205528Z
LAST-MODIFIED:20230927T205529Z
UID:5944-1696527000-1696534200@cfanorthcarolina.org
SUMMARY:Charlotte Networking
DESCRIPTION:Join us for our next Networking Event\, which alternates locations and venues around the Charlotte area. All members\, candidates\, and friends of the society are welcome to join us for this networking event! Please RSVP and let us know if you can attend.
URL:https://cfanorthcarolina.org/event/charlotte-networking-4/
LOCATION:Wooden Robot Brewery\, 1440 S Tryon Street #110\, Charlotte\, North Carolina\, 28203
CATEGORIES:Networking
ATTACH;FMTTYPE=image/png:https://cfanorthcarolina.org/wp-content/uploads/2023/09/Networking-Event-8.png
END:VEVENT
BEGIN:VEVENT
DTSTART;TZID=America/New_York:20231010T170000
DTEND;TZID=America/New_York:20231010T190000
DTSTAMP:20260419T105855
CREATED:20230914T211403Z
LAST-MODIFIED:20230914T211404Z
UID:5937-1696957200-1696964400@cfanorthcarolina.org
SUMMARY:Triad Networking
DESCRIPTION:Join us for our next Networking Event\, which alternates locations and venues around the Triad area. All members\, candidates\, and friends of the society are welcome to join us for this networking event! Please RSVP and let us know if you can attend.
URL:https://cfanorthcarolina.org/event/triad-networking-4/
LOCATION:Incendiary Brewing Company\, 486 N. Patterson Avenue\, #105\, Winston Salem\, North Carolina\, 27101
CATEGORIES:Networking
ATTACH;FMTTYPE=image/png:https://cfanorthcarolina.org/wp-content/uploads/2023/09/Networking-Event-7.png
END:VEVENT
END:VCALENDAR