BEGIN:VCALENDAR
VERSION:2.0
PRODID:-//CFA Society North Carolina - ECPv6.15.17.1//NONSGML v1.0//EN
CALSCALE:GREGORIAN
METHOD:PUBLISH
X-WR-CALNAME:CFA Society North Carolina
X-ORIGINAL-URL:https://cfanorthcarolina.org
X-WR-CALDESC:Events for CFA Society North Carolina
REFRESH-INTERVAL;VALUE=DURATION:PT1H
X-Robots-Tag:noindex
X-PUBLISHED-TTL:PT1H
BEGIN:VTIMEZONE
TZID:America/New_York
BEGIN:DAYLIGHT
TZOFFSETFROM:-0500
TZOFFSETTO:-0400
TZNAME:EDT
DTSTART:20220313T070000
END:DAYLIGHT
BEGIN:STANDARD
TZOFFSETFROM:-0400
TZOFFSETTO:-0500
TZNAME:EST
DTSTART:20221106T060000
END:STANDARD
BEGIN:DAYLIGHT
TZOFFSETFROM:-0500
TZOFFSETTO:-0400
TZNAME:EDT
DTSTART:20230312T070000
END:DAYLIGHT
BEGIN:STANDARD
TZOFFSETFROM:-0400
TZOFFSETTO:-0500
TZNAME:EST
DTSTART:20231105T060000
END:STANDARD
BEGIN:DAYLIGHT
TZOFFSETFROM:-0500
TZOFFSETTO:-0400
TZNAME:EDT
DTSTART:20240310T070000
END:DAYLIGHT
BEGIN:STANDARD
TZOFFSETFROM:-0400
TZOFFSETTO:-0500
TZNAME:EST
DTSTART:20241103T060000
END:STANDARD
END:VTIMEZONE
BEGIN:VEVENT
DTSTART;TZID=America/New_York:20230321T170000
DTEND;TZID=America/New_York:20230321T190000
DTSTAMP:20260419T230628
CREATED:20230215T191628Z
LAST-MODIFIED:20230215T191630Z
UID:5518-1679418000-1679425200@cfanorthcarolina.org
SUMMARY:Triangle Networking Event
DESCRIPTION:Join us for our next Networking Event\, which alternates locations and venues around the Triangle area. All members\, candidates\, and friends of the society are welcome to join us for this free\, networking event! Please RSVP and let us know if you can attend.
URL:https://cfanorthcarolina.org/event/triangle-networking-event/
LOCATION:R&D Brewing-Seven Saturdays Taproom\, 1399 Capital Blvd\, Raleigh\, North Carolina\, 27603\, United States
CATEGORIES:Networking
ATTACH;FMTTYPE=image/png:https://cfanorthcarolina.org/wp-content/uploads/2023/02/Networking-Event.png
END:VEVENT
BEGIN:VEVENT
DTSTART;TZID=America/New_York:20230322T170000
DTEND;TZID=America/New_York:20230322T190000
DTSTAMP:20260419T230628
CREATED:20230213T215337Z
LAST-MODIFIED:20230217T140550Z
UID:5513-1679504400-1679511600@cfanorthcarolina.org
SUMMARY:Triad Networking
DESCRIPTION:Join us for our next Networking Event\, which alternates locations and venues around the Triad area. All members\, candidates\, and friends of the society are welcome to join us for this free\, networking event! Please RSVP and let us know if you can attend.
URL:https://cfanorthcarolina.org/event/triad-networking-2/
LOCATION:Incendiary Brewing Company\, 486 N. Patterson Avenue\, #105\, Winston Salem\, North Carolina\, 27101
CATEGORIES:Networking
ATTACH;FMTTYPE=image/png:https://cfanorthcarolina.org/wp-content/uploads/2023/02/Copy-of-CFANC-Facebook-940x788-54.png
END:VEVENT
BEGIN:VEVENT
DTSTART;TZID=America/New_York:20230323T173000
DTEND;TZID=America/New_York:20230323T193000
DTSTAMP:20260419T230628
CREATED:20230220T143633Z
LAST-MODIFIED:20230220T143635Z
UID:5524-1679592600-1679599800@cfanorthcarolina.org
SUMMARY:Charlotte Networking Event
DESCRIPTION:Join us for our next Networking Event\, which alternates locations and venues around the Charlotte area. All members\, candidates\, and friends of the society are welcome to join us for this free\, networking event! Please RSVP and let us know if you can attend.
URL:https://cfanorthcarolina.org/event/charlotte-networking-event/
LOCATION:The Olde Mecklenburg Brewery and Biergarten\, 4150 Yancey Road\, Charlotte\, North Carolina\, 28217
CATEGORIES:Networking
ATTACH;FMTTYPE=image/png:https://cfanorthcarolina.org/wp-content/uploads/2023/02/Networking-Event-1.png
END:VEVENT
END:VCALENDAR