BEGIN:VCALENDAR
VERSION:2.0
PRODID:-//CFA Society North Carolina - ECPv6.15.17.1//NONSGML v1.0//EN
CALSCALE:GREGORIAN
METHOD:PUBLISH
X-WR-CALNAME:CFA Society North Carolina
X-ORIGINAL-URL:https://cfanorthcarolina.org
X-WR-CALDESC:Events for CFA Society North Carolina
REFRESH-INTERVAL;VALUE=DURATION:PT1H
X-Robots-Tag:noindex
X-PUBLISHED-TTL:PT1H
BEGIN:VTIMEZONE
TZID:America/New_York
BEGIN:DAYLIGHT
TZOFFSETFROM:-0500
TZOFFSETTO:-0400
TZNAME:EDT
DTSTART:20210314T070000
END:DAYLIGHT
BEGIN:STANDARD
TZOFFSETFROM:-0400
TZOFFSETTO:-0500
TZNAME:EST
DTSTART:20211107T060000
END:STANDARD
BEGIN:DAYLIGHT
TZOFFSETFROM:-0500
TZOFFSETTO:-0400
TZNAME:EDT
DTSTART:20220313T070000
END:DAYLIGHT
BEGIN:STANDARD
TZOFFSETFROM:-0400
TZOFFSETTO:-0500
TZNAME:EST
DTSTART:20221106T060000
END:STANDARD
BEGIN:DAYLIGHT
TZOFFSETFROM:-0500
TZOFFSETTO:-0400
TZNAME:EDT
DTSTART:20230312T070000
END:DAYLIGHT
BEGIN:STANDARD
TZOFFSETFROM:-0400
TZOFFSETTO:-0500
TZNAME:EST
DTSTART:20231105T060000
END:STANDARD
END:VTIMEZONE
BEGIN:VEVENT
DTSTART;TZID=America/New_York:20221206T173000
DTEND;TZID=America/New_York:20221206T193000
DTSTAMP:20260422T045703
CREATED:20221111T191954Z
LAST-MODIFIED:20221111T191957Z
UID:5315-1670347800-1670355000@cfanorthcarolina.org
SUMMARY:Triangle Holiday Networking
DESCRIPTION:Cheers to 2022!  Whether you have a lot to celebrate (earning your Charter\, starting with a new firm) or just want to catch up with friends and colleagues\, we invite you to join us at Level7 Rooftop Bar at the AC Hotel in North Hills for our Holiday Social.
URL:https://cfanorthcarolina.org/event/triangle-holiday-networking/
LOCATION:Level7 Rooftop Bar\, 101 Park at North Hills Street\, Raleigh\, North Carolina\, 27609
CATEGORIES:Networking
ATTACH;FMTTYPE=image/png:https://cfanorthcarolina.org/wp-content/uploads/2022/11/Triad-Holiday-Networking-1.png
END:VEVENT
END:VCALENDAR