BEGIN:VCALENDAR
VERSION:2.0
PRODID:-//CFA Society North Carolina - ECPv6.15.17.1//NONSGML v1.0//EN
CALSCALE:GREGORIAN
METHOD:PUBLISH
X-ORIGINAL-URL:https://cfanorthcarolina.org
X-WR-CALDESC:Events for CFA Society North Carolina
REFRESH-INTERVAL;VALUE=DURATION:PT1H
X-Robots-Tag:noindex
X-PUBLISHED-TTL:PT1H
BEGIN:VTIMEZONE
TZID:America/New_York
BEGIN:DAYLIGHT
TZOFFSETFROM:-0500
TZOFFSETTO:-0400
TZNAME:EDT
DTSTART:20210314T070000
END:DAYLIGHT
BEGIN:STANDARD
TZOFFSETFROM:-0400
TZOFFSETTO:-0500
TZNAME:EST
DTSTART:20211107T060000
END:STANDARD
BEGIN:DAYLIGHT
TZOFFSETFROM:-0500
TZOFFSETTO:-0400
TZNAME:EDT
DTSTART:20220313T070000
END:DAYLIGHT
BEGIN:STANDARD
TZOFFSETFROM:-0400
TZOFFSETTO:-0500
TZNAME:EST
DTSTART:20221106T060000
END:STANDARD
BEGIN:DAYLIGHT
TZOFFSETFROM:-0500
TZOFFSETTO:-0400
TZNAME:EDT
DTSTART:20230312T070000
END:DAYLIGHT
BEGIN:STANDARD
TZOFFSETFROM:-0400
TZOFFSETTO:-0500
TZNAME:EST
DTSTART:20231105T060000
END:STANDARD
END:VTIMEZONE
BEGIN:VEVENT
DTSTART;TZID=America/New_York:20221101T173000
DTEND;TZID=America/New_York:20221101T193000
DTSTAMP:20260422T062606
CREATED:20221003T144509Z
LAST-MODIFIED:20221003T144512Z
UID:5218-1667323800-1667331000@cfanorthcarolina.org
SUMMARY:Charlotte Networking-Town Brewing Company
DESCRIPTION:Please join us for our next networking event in Charlotte.  All members\, candidates\, and friends of the society are welcome!  While there is no charge to attend\, we to request that you register so we will know how many to expect.
URL:https://cfanorthcarolina.org/event/charlotte-networking-town-brewing-company/
LOCATION:Town Brewing Company\, 800 Grandin Road\, Charlotte\, North Carolina\, 28208
CATEGORIES:Networking
ATTACH;FMTTYPE=image/png:https://cfanorthcarolina.org/wp-content/uploads/2022/10/Copy-of-CFANC-Facebook-940x788-26.png
END:VEVENT
BEGIN:VEVENT
DTSTART;TZID=America/New_York:20221129T173000
DTEND;TZID=America/New_York:20221129T193000
DTSTAMP:20260422T062606
CREATED:20221114T163248Z
LAST-MODIFIED:20221202T154325Z
UID:5320-1669743000-1669750200@cfanorthcarolina.org
SUMMARY:CLT-Holiday Networking
DESCRIPTION:Cheers to 2022!  Whether you have a lot to celebrate (earning your Charter\, starting with a new firm) or just want to catch up with friends and colleagues\, we invite you to join us at Rooster’s Wood-fired Kitchen (uptown location) for our Holiday Social.
URL:https://cfanorthcarolina.org/event/clt-holiday-networking/
LOCATION:Rooster’s Wood-fired Kitchen\, 150 N. College Street\, Charlotte\, North Carolina\, 28202
CATEGORIES:Networking
ATTACH;FMTTYPE=image/png:https://cfanorthcarolina.org/wp-content/uploads/2022/11/Triad-Holiday-Networking-2.png
END:VEVENT
BEGIN:VEVENT
DTSTART;TZID=America/New_York:20221130T170000
DTEND;TZID=America/New_York:20221130T190000
DTSTAMP:20260422T062606
CREATED:20221102T143949Z
LAST-MODIFIED:20221102T143952Z
UID:5290-1669827600-1669834800@cfanorthcarolina.org
SUMMARY:Triad-Holiday Networking Social
DESCRIPTION:Cheers to 2022! Whether you have a lot to celebrate (earning your Charter\, starting with a new firm) or just want to catch up with friends and colleagues\, we invite you to join us at Eastern Standard in Winston-Salem for our Holiday Social.
URL:https://cfanorthcarolina.org/event/triad-holiday-networking-social/
LOCATION:Eastern Standard\, 1131 Burke Street\, Winston Salem\, North Carolina\, 27101
CATEGORIES:Networking
ATTACH;FMTTYPE=image/png:https://cfanorthcarolina.org/wp-content/uploads/2022/11/Triad-Holiday-Networking.png
END:VEVENT
END:VCALENDAR