BEGIN:VCALENDAR
VERSION:2.0
PRODID:-//CFA Society North Carolina - ECPv6.15.17.1//NONSGML v1.0//EN
CALSCALE:GREGORIAN
METHOD:PUBLISH
X-WR-CALNAME:CFA Society North Carolina
X-ORIGINAL-URL:https://cfanorthcarolina.org
X-WR-CALDESC:Events for CFA Society North Carolina
REFRESH-INTERVAL;VALUE=DURATION:PT1H
X-Robots-Tag:noindex
X-PUBLISHED-TTL:PT1H
BEGIN:VTIMEZONE
TZID:America/New_York
BEGIN:DAYLIGHT
TZOFFSETFROM:-0500
TZOFFSETTO:-0400
TZNAME:EDT
DTSTART:20210314T070000
END:DAYLIGHT
BEGIN:STANDARD
TZOFFSETFROM:-0400
TZOFFSETTO:-0500
TZNAME:EST
DTSTART:20211107T060000
END:STANDARD
BEGIN:DAYLIGHT
TZOFFSETFROM:-0500
TZOFFSETTO:-0400
TZNAME:EDT
DTSTART:20220313T070000
END:DAYLIGHT
BEGIN:STANDARD
TZOFFSETFROM:-0400
TZOFFSETTO:-0500
TZNAME:EST
DTSTART:20221106T060000
END:STANDARD
BEGIN:DAYLIGHT
TZOFFSETFROM:-0500
TZOFFSETTO:-0400
TZNAME:EDT
DTSTART:20230312T070000
END:DAYLIGHT
BEGIN:STANDARD
TZOFFSETFROM:-0400
TZOFFSETTO:-0500
TZNAME:EST
DTSTART:20231105T060000
END:STANDARD
END:VTIMEZONE
BEGIN:VEVENT
DTSTART;TZID=America/New_York:20220913T170000
DTEND;TZID=America/New_York:20220913T190000
DTSTAMP:20260422T093353
CREATED:20220826T142920Z
LAST-MODIFIED:20220928T180018Z
UID:5160-1663088400-1663095600@cfanorthcarolina.org
SUMMARY:Triad Networking
DESCRIPTION:Join us for our next Networking Event\, which alternates locations and venues around the Triad area. We will be meeting at Roar\, downtown Winston-Salem in the food court area.  Valet parking is available for $7. All members\, candidates and friends of the society are welcome!
URL:https://cfanorthcarolina.org/event/triad-networking/
LOCATION:Roar\, 633 Liberty Street\, Winston Salem\, 27101
CATEGORIES:Networking
ATTACH;FMTTYPE=image/png:https://cfanorthcarolina.org/wp-content/uploads/2022/08/Copy-of-CFANC-Facebook-940x788-19.png
END:VEVENT
BEGIN:VEVENT
DTSTART;TZID=America/New_York:20220914T173000
DTEND;TZID=America/New_York:20220914T193000
DTSTAMP:20260422T093353
CREATED:20220829T195453Z
LAST-MODIFIED:20220829T195456Z
UID:5178-1663176600-1663183800@cfanorthcarolina.org
SUMMARY:Charlotte Networking
DESCRIPTION:Now that summer is over\, join us as we gear back up for fall! Come catch up with friends\, colleagues\, and peers. All members\, candidates\, and friends of the society are welcome!
URL:https://cfanorthcarolina.org/event/charlotte-networking-2/
LOCATION:Wooden Robot Brewery\, 1440 S Tryon Street #110\, Charlotte\, North Carolina\, 28203
CATEGORIES:Networking
ATTACH;FMTTYPE=image/png:https://cfanorthcarolina.org/wp-content/uploads/2022/08/Copy-of-CFANC-Facebook-940x788-21.png
END:VEVENT
BEGIN:VEVENT
DTSTART;TZID=America/New_York:20220920T173000
DTEND;TZID=America/New_York:20220920T193000
DTSTAMP:20260422T093353
CREATED:20220826T143925Z
LAST-MODIFIED:20220826T143928Z
UID:5164-1663695000-1663702200@cfanorthcarolina.org
SUMMARY:Triangle Networking
DESCRIPTION:Fall is almost here\, so let’s get back into the swing of things!  Join us for networking in Durham.  All members\, candidates\, and friends of the society are welcome!
URL:https://cfanorthcarolina.org/event/triangle-networking/
LOCATION:Ponysaurus Brewing Company\, 219 Hood Street\, Durham\, North Carolina\, 27701
CATEGORIES:Networking
ATTACH;FMTTYPE=image/png:https://cfanorthcarolina.org/wp-content/uploads/2022/08/Copy-of-CFANC-Facebook-940x788-20.png
END:VEVENT
END:VCALENDAR