BEGIN:VCALENDAR
VERSION:2.0
PRODID:-//CFA Society North Carolina - ECPv6.15.17.1//NONSGML v1.0//EN
CALSCALE:GREGORIAN
METHOD:PUBLISH
X-ORIGINAL-URL:https://cfanorthcarolina.org
X-WR-CALDESC:Events for CFA Society North Carolina
REFRESH-INTERVAL;VALUE=DURATION:PT1H
X-Robots-Tag:noindex
X-PUBLISHED-TTL:PT1H
BEGIN:VTIMEZONE
TZID:America/New_York
BEGIN:DAYLIGHT
TZOFFSETFROM:-0500
TZOFFSETTO:-0400
TZNAME:EDT
DTSTART:20210314T070000
END:DAYLIGHT
BEGIN:STANDARD
TZOFFSETFROM:-0400
TZOFFSETTO:-0500
TZNAME:EST
DTSTART:20211107T060000
END:STANDARD
BEGIN:DAYLIGHT
TZOFFSETFROM:-0500
TZOFFSETTO:-0400
TZNAME:EDT
DTSTART:20220313T070000
END:DAYLIGHT
BEGIN:STANDARD
TZOFFSETFROM:-0400
TZOFFSETTO:-0500
TZNAME:EST
DTSTART:20221106T060000
END:STANDARD
BEGIN:DAYLIGHT
TZOFFSETFROM:-0500
TZOFFSETTO:-0400
TZNAME:EDT
DTSTART:20230312T070000
END:DAYLIGHT
BEGIN:STANDARD
TZOFFSETFROM:-0400
TZOFFSETTO:-0500
TZNAME:EST
DTSTART:20231105T060000
END:STANDARD
END:VTIMEZONE
BEGIN:VEVENT
DTSTART;TZID=America/New_York:20220309T173000
DTEND;TZID=America/New_York:20220309T193000
DTSTAMP:20260422T191720
CREATED:20220217T143244Z
LAST-MODIFIED:20220309T182035Z
UID:4708-1646847000-1646854200@cfanorthcarolina.org
SUMMARY:Triangle Networking-Bowstring Pizza and Brewyard
DESCRIPTION:Join us for our next Networking Event\, which alternates locations and venues around the Triangle area. All members\, candidates\, and friends of the society are welcome to join us for this free\, networking event! Please RSVP and let us know if you can attend.
URL:https://cfanorthcarolina.org/event/triangle-networking-bowstring-pizza-and-brewyard/
LOCATION:Bowstring Pizza and Brewyard\, 1930 Wake Forest Road\, Raleigh\, North Carolina\, 27608
CATEGORIES:Networking
ATTACH;FMTTYPE=image/png:https://cfanorthcarolina.org/wp-content/uploads/2022/02/Copy-of-CFANC-Facebook-940x788-1-1.png
END:VEVENT
BEGIN:VEVENT
DTSTART;TZID=America/New_York:20220316T173000
DTEND;TZID=America/New_York:20220316T193000
DTSTAMP:20260422T191720
CREATED:20220215T203633Z
LAST-MODIFIED:20220215T203635Z
UID:4679-1647451800-1647459000@cfanorthcarolina.org
SUMMARY:Charlotte Networking-Petty Thieves Brewing Company
DESCRIPTION:Join us for our next Networking Event\, which alternates locations and venues around the Charlotte area. All members\, candidates and friends of the society are welcome to join us for this free\, networking event! Please RSVP and let us know if you can attend.
URL:https://cfanorthcarolina.org/event/charlotte-networking-petty-thieves-brewing-company/
LOCATION:Petty Thieves Brewing Company\, 413 Dalton Avenue\, Suite B\, Charlotte\, North Carolina\, 28206
CATEGORIES:Networking
ATTACH;FMTTYPE=image/jpeg:https://cfanorthcarolina.org/wp-content/uploads/2022/02/Copy-of-CFANC-Facebook-940x788-2.jpg
END:VEVENT
BEGIN:VEVENT
DTSTART;TZID=America/New_York:20220323T170000
DTEND;TZID=America/New_York:20220323T190000
DTSTAMP:20260422T191720
CREATED:20220217T165940Z
LAST-MODIFIED:20220217T165942Z
UID:4714-1648054800-1648062000@cfanorthcarolina.org
SUMMARY:Triad Networking-Print Works Bistro
DESCRIPTION:Join us for our next Networking Event\, which alternates locations and venues around the Triad area. All members\, candidates\, and friends of the society are welcome to join us for this free\, networking event! Please RSVP and let us know if you can attend.
URL:https://cfanorthcarolina.org/event/triad-networking-print-works-bistro/
LOCATION:Print Works Bistro
CATEGORIES:Networking
ATTACH;FMTTYPE=image/png:https://cfanorthcarolina.org/wp-content/uploads/2022/02/Copy-of-CFANC-Facebook-940x788-4-4.png
END:VEVENT
END:VCALENDAR