BEGIN:VCALENDAR
VERSION:2.0
PRODID:-//CFA Society North Carolina - ECPv6.15.17.1//NONSGML v1.0//EN
CALSCALE:GREGORIAN
METHOD:PUBLISH
X-ORIGINAL-URL:https://cfanorthcarolina.org
X-WR-CALDESC:Events for CFA Society North Carolina
REFRESH-INTERVAL;VALUE=DURATION:PT1H
X-Robots-Tag:noindex
X-PUBLISHED-TTL:PT1H
BEGIN:VTIMEZONE
TZID:America/New_York
BEGIN:DAYLIGHT
TZOFFSETFROM:-0500
TZOFFSETTO:-0400
TZNAME:EDT
DTSTART:20200308T070000
END:DAYLIGHT
BEGIN:STANDARD
TZOFFSETFROM:-0400
TZOFFSETTO:-0500
TZNAME:EST
DTSTART:20201101T060000
END:STANDARD
BEGIN:DAYLIGHT
TZOFFSETFROM:-0500
TZOFFSETTO:-0400
TZNAME:EDT
DTSTART:20210314T070000
END:DAYLIGHT
BEGIN:STANDARD
TZOFFSETFROM:-0400
TZOFFSETTO:-0500
TZNAME:EST
DTSTART:20211107T060000
END:STANDARD
BEGIN:DAYLIGHT
TZOFFSETFROM:-0500
TZOFFSETTO:-0400
TZNAME:EDT
DTSTART:20220313T070000
END:DAYLIGHT
BEGIN:STANDARD
TZOFFSETFROM:-0400
TZOFFSETTO:-0500
TZNAME:EST
DTSTART:20221106T060000
END:STANDARD
END:VTIMEZONE
BEGIN:VEVENT
DTSTART;TZID=America/New_York:20210818T170000
DTEND;TZID=America/New_York:20210818T190000
DTSTAMP:20260423T052559
CREATED:20210621T140543Z
LAST-MODIFIED:20220720T133043Z
UID:3749-1629306000-1629313200@cfanorthcarolina.org
SUMMARY:CLT-IN PERSON Networking
DESCRIPTION:Join us IN PERSON to catch up with friends\, colleagues and peers!
URL:https://cfanorthcarolina.org/event/clt-in-person-networking/
LOCATION:Brewers at 4001 Yancey\, 4001 A Yancey Road\, Charlotte\, North Carolina\, 28217
CATEGORIES:Networking
ATTACH;FMTTYPE=image/jpeg:https://cfanorthcarolina.org/wp-content/uploads/2021/06/CLT-Brewers-Networking-1.jpg
END:VEVENT
BEGIN:VEVENT
DTSTART;TZID=America/New_York:20210819T170000
DTEND;TZID=America/New_York:20210819T190000
DTSTAMP:20260423T052559
CREATED:20210712T141546Z
LAST-MODIFIED:20220720T133015Z
UID:3806-1629392400-1629399600@cfanorthcarolina.org
SUMMARY:Triad- IN PERSON Networking
DESCRIPTION:Join us IN PERSON to catch up with local friends and colleagues!
URL:https://cfanorthcarolina.org/event/triad-in-person-networking/
LOCATION:Incendiary Brewing Company\, 486 N. Patterson Avenue\, #105\, Winston Salem\, North Carolina\, 27101
CATEGORIES:Networking
ATTACH;FMTTYPE=image/jpeg:https://cfanorthcarolina.org/wp-content/uploads/2021/07/Triad-Networking.jpg
END:VEVENT
END:VCALENDAR