BEGIN:VCALENDAR
VERSION:2.0
PRODID:-//CFA Society North Carolina - ECPv6.15.17.1//NONSGML v1.0//EN
CALSCALE:GREGORIAN
METHOD:PUBLISH
X-ORIGINAL-URL:https://cfanorthcarolina.org
X-WR-CALDESC:Events for CFA Society North Carolina
REFRESH-INTERVAL;VALUE=DURATION:PT1H
X-Robots-Tag:noindex
X-PUBLISHED-TTL:PT1H
BEGIN:VTIMEZONE
TZID:America/New_York
BEGIN:DAYLIGHT
TZOFFSETFROM:-0500
TZOFFSETTO:-0400
TZNAME:EDT
DTSTART:20190310T070000
END:DAYLIGHT
BEGIN:STANDARD
TZOFFSETFROM:-0400
TZOFFSETTO:-0500
TZNAME:EST
DTSTART:20191103T060000
END:STANDARD
BEGIN:DAYLIGHT
TZOFFSETFROM:-0500
TZOFFSETTO:-0400
TZNAME:EDT
DTSTART:20200308T070000
END:DAYLIGHT
BEGIN:STANDARD
TZOFFSETFROM:-0400
TZOFFSETTO:-0500
TZNAME:EST
DTSTART:20201101T060000
END:STANDARD
BEGIN:DAYLIGHT
TZOFFSETFROM:-0500
TZOFFSETTO:-0400
TZNAME:EDT
DTSTART:20210314T070000
END:DAYLIGHT
BEGIN:STANDARD
TZOFFSETFROM:-0400
TZOFFSETTO:-0500
TZNAME:EST
DTSTART:20211107T060000
END:STANDARD
END:VTIMEZONE
BEGIN:VEVENT
DTSTART;TZID=America/New_York:20201022T193000
DTEND;TZID=America/New_York:20201022T203000
DTSTAMP:20260423T202149
CREATED:20201013T202924Z
LAST-MODIFIED:20201013T202925Z
UID:2924-1603395000-1603398600@cfanorthcarolina.org
SUMMARY:Virtual Pumpkin Carving
DESCRIPTION:Have you ever wondered how those incredible jack-o-lanterns get carved? \n\n\n\nSean Fitzpatrick\, a professional sculptor\, will demonstrate how to create a pumpkin masterpiece! \n\n\n\nDon’t miss this opportunity to join us ahead of Halloween to learn the art of carving a pumpkin masterpiece. \n\n\n\nWant to turn this lesson into a fun family activity? You are welcome to bring your kids\, partner\, or other family members to our night of pumpkin carving!
URL:https://cfanorthcarolina.org/event/virtual-pumpkin-carving/
LOCATION:North Carolina
CATEGORIES:Networking,Virtual
ATTACH;FMTTYPE=image/png:https://cfanorthcarolina.org/wp-content/uploads/2020/10/Virtual-Pumpkin-Carving-1.png
END:VEVENT
END:VCALENDAR