BEGIN:VCALENDAR
VERSION:2.0
PRODID:-//CFA Society North Carolina - ECPv6.15.17.1//NONSGML v1.0//EN
CALSCALE:GREGORIAN
METHOD:PUBLISH
X-WR-CALNAME:CFA Society North Carolina
X-ORIGINAL-URL:https://cfanorthcarolina.org
X-WR-CALDESC:Events for CFA Society North Carolina
REFRESH-INTERVAL;VALUE=DURATION:PT1H
X-Robots-Tag:noindex
X-PUBLISHED-TTL:PT1H
BEGIN:VTIMEZONE
TZID:America/New_York
BEGIN:DAYLIGHT
TZOFFSETFROM:-0500
TZOFFSETTO:-0400
TZNAME:EDT
DTSTART:20210314T070000
END:DAYLIGHT
BEGIN:STANDARD
TZOFFSETFROM:-0400
TZOFFSETTO:-0500
TZNAME:EST
DTSTART:20211107T060000
END:STANDARD
BEGIN:DAYLIGHT
TZOFFSETFROM:-0500
TZOFFSETTO:-0400
TZNAME:EDT
DTSTART:20220313T070000
END:DAYLIGHT
BEGIN:STANDARD
TZOFFSETFROM:-0400
TZOFFSETTO:-0500
TZNAME:EST
DTSTART:20221106T060000
END:STANDARD
BEGIN:DAYLIGHT
TZOFFSETFROM:-0500
TZOFFSETTO:-0400
TZNAME:EDT
DTSTART:20230312T070000
END:DAYLIGHT
BEGIN:STANDARD
TZOFFSETFROM:-0400
TZOFFSETTO:-0500
TZNAME:EST
DTSTART:20231105T060000
END:STANDARD
END:VTIMEZONE
BEGIN:VEVENT
DTSTART;TZID=America/New_York:20220811T190000
DTEND;TZID=America/New_York:20220811T203000
DTSTAMP:20260420T040353
CREATED:20220720T191839Z
LAST-MODIFIED:20220720T191841Z
UID:5098-1660244400-1660249800@cfanorthcarolina.org
SUMMARY:Investing in Your Future: The CFA Charter and Your Career Path
DESCRIPTION:Join seasoned CFA® investment management practitioners discuss the future employment opportunities and the training needed to obtain highly rewarding jobs in the financial services industry.
URL:https://cfanorthcarolina.org/event/investing-in-your-future-the-cfa-charter-and-your-career-path-2/
CATEGORIES:Candidate Focused Event,Virtual
ATTACH;FMTTYPE=image/png:https://cfanorthcarolina.org/wp-content/uploads/2022/07/Copy-of-CFANC-Facebook-940x788-7.png
END:VEVENT
BEGIN:VEVENT
DTSTART;TZID=America/New_York:20220818T193000
DTEND;TZID=America/New_York:20220818T210000
DTSTAMP:20260420T040353
CREATED:20220720T192610Z
LAST-MODIFIED:20220720T192613Z
UID:5100-1660851000-1660856400@cfanorthcarolina.org
SUMMARY:Mastering the Level II & III Exams
DESCRIPTION:This event is open to all Level II and III CFA Candidates for free. We are excited to present CFA charterholders that have recently passed their Level III Exam and will give tips on their process to prepare and study for the CFA Exams.
URL:https://cfanorthcarolina.org/event/mastering-the-level-ii-iii-exams/
CATEGORIES:Candidate Focused Event,Virtual
ATTACH;FMTTYPE=image/png:https://cfanorthcarolina.org/wp-content/uploads/2022/07/Copy-of-CFANC-Facebook-940x788-9.png
END:VEVENT
END:VCALENDAR