BEGIN:VCALENDAR
VERSION:2.0
PRODID:-//CFA Society North Carolina - ECPv6.15.17.1//NONSGML v1.0//EN
CALSCALE:GREGORIAN
METHOD:PUBLISH
X-ORIGINAL-URL:https://cfanorthcarolina.org
X-WR-CALDESC:Events for CFA Society North Carolina
REFRESH-INTERVAL;VALUE=DURATION:PT1H
X-Robots-Tag:noindex
X-PUBLISHED-TTL:PT1H
BEGIN:VTIMEZONE
TZID:America/New_York
BEGIN:DAYLIGHT
TZOFFSETFROM:-0500
TZOFFSETTO:-0400
TZNAME:EDT
DTSTART:20210314T070000
END:DAYLIGHT
BEGIN:STANDARD
TZOFFSETFROM:-0400
TZOFFSETTO:-0500
TZNAME:EST
DTSTART:20211107T060000
END:STANDARD
BEGIN:DAYLIGHT
TZOFFSETFROM:-0500
TZOFFSETTO:-0400
TZNAME:EDT
DTSTART:20220313T070000
END:DAYLIGHT
BEGIN:STANDARD
TZOFFSETFROM:-0400
TZOFFSETTO:-0500
TZNAME:EST
DTSTART:20221106T060000
END:STANDARD
BEGIN:DAYLIGHT
TZOFFSETFROM:-0500
TZOFFSETTO:-0400
TZNAME:EDT
DTSTART:20230312T070000
END:DAYLIGHT
BEGIN:STANDARD
TZOFFSETFROM:-0400
TZOFFSETTO:-0500
TZNAME:EST
DTSTART:20231105T060000
END:STANDARD
END:VTIMEZONE
BEGIN:VEVENT
DTSTART;TZID=America/New_York:20220407T190000
DTEND;TZID=America/New_York:20220407T203000
DTSTAMP:20260420T111626
CREATED:20220225T203752Z
LAST-MODIFIED:20220225T203754Z
UID:4755-1649358000-1649363400@cfanorthcarolina.org
SUMMARY:Candidates: Overview of the Global Investment Performance Standard (GIPS)
DESCRIPTION:If you’re a Level III Candidate looking for a better breakdown on Global Investment Performance Standards (GIPS®)\, or if you’re looking to learn how to best apply the GIPS Standards or get the most out of them for your firm and clients\, then this event is for you.
URL:https://cfanorthcarolina.org/event/candidates-overview-of-the-global-investment-performance-standard-gips/
CATEGORIES:Candidate Focused Event,Virtual
ATTACH;FMTTYPE=image/png:https://cfanorthcarolina.org/wp-content/uploads/2022/02/Copy-of-CFANC-Facebook-940x788-7.png
END:VEVENT
BEGIN:VEVENT
DTSTART;TZID=America/New_York:20220423T130000
DTEND;TZID=America/New_York:20220423T143000
DTSTAMP:20260420T111626
CREATED:20220225T204029Z
LAST-MODIFIED:20220225T204031Z
UID:4757-1650718800-1650724200@cfanorthcarolina.org
SUMMARY:Candidates: Level III Exam Essay Writing Workshop
DESCRIPTION:Are you ready for the Level III CFA Exam? How about the Essay Portion? Knowing the best strategies and methods on how to answer essay questions is almost as important as knowing the actual CFA curriculum content\, and a lot of candidates don’t take the necessary time to prepare.  \n\n\n\nPlease join Glen Holden\, Jr.\, CFA as he guides you through the essay writing process of the Level III CFA Exam. This workshop will take you through the CFA Institute Essay Grading Methodology\, Test Taking Tips\, and Pitfalls that can occur during the Level III Exam.
URL:https://cfanorthcarolina.org/event/candidates-level-iii-exam-essay-writing-workshop/
CATEGORIES:Candidate Focused Event,Virtual
ATTACH;FMTTYPE=image/png:https://cfanorthcarolina.org/wp-content/uploads/2022/02/Copy-of-CFANC-Facebook-940x788-7.png
END:VEVENT
END:VCALENDAR