BEGIN:VCALENDAR
VERSION:2.0
PRODID:-//CFA Society North Carolina - ECPv6.15.17.1//NONSGML v1.0//EN
CALSCALE:GREGORIAN
METHOD:PUBLISH
X-WR-CALNAME:CFA Society North Carolina
X-ORIGINAL-URL:https://cfanorthcarolina.org
X-WR-CALDESC:Events for CFA Society North Carolina
REFRESH-INTERVAL;VALUE=DURATION:PT1H
X-Robots-Tag:noindex
X-PUBLISHED-TTL:PT1H
BEGIN:VTIMEZONE
TZID:America/New_York
BEGIN:DAYLIGHT
TZOFFSETFROM:-0500
TZOFFSETTO:-0400
TZNAME:EDT
DTSTART:20150308T070000
END:DAYLIGHT
BEGIN:STANDARD
TZOFFSETFROM:-0400
TZOFFSETTO:-0500
TZNAME:EST
DTSTART:20151101T060000
END:STANDARD
BEGIN:DAYLIGHT
TZOFFSETFROM:-0500
TZOFFSETTO:-0400
TZNAME:EDT
DTSTART:20160313T070000
END:DAYLIGHT
BEGIN:STANDARD
TZOFFSETFROM:-0400
TZOFFSETTO:-0500
TZNAME:EST
DTSTART:20161106T060000
END:STANDARD
BEGIN:DAYLIGHT
TZOFFSETFROM:-0500
TZOFFSETTO:-0400
TZNAME:EDT
DTSTART:20170312T070000
END:DAYLIGHT
BEGIN:STANDARD
TZOFFSETFROM:-0400
TZOFFSETTO:-0500
TZNAME:EST
DTSTART:20171105T060000
END:STANDARD
END:VTIMEZONE
BEGIN:VEVENT
DTSTART;TZID=America/New_York:20160218T000000
DTEND;TZID=America/New_York:20160218T000000
DTSTAMP:20260425T080241
CREATED:20200221T193209Z
LAST-MODIFIED:20200221T193209Z
UID:481-1455753600-1455753600@cfanorthcarolina.org
SUMMARY:CLT-Candidate Networking and informational meeting
DESCRIPTION:Current NC Candidates for the June CFA(R) exam are invited to come meet one another\, hear from the CFA Institute reps on the CFA Program and see examples of prep course guides that are currently offering discounts to NC registered candidates. \nSPEAKER\nCFA Institute rep – TBA
URL:https://cfanorthcarolina.org/event/clt-candidate-networking-and-informational-meeting/
LOCATION:Morton’s the Steakhouse\, 227 W Trade St #150\, Charlotte\, NC\, 28202\, United States
CATEGORIES:Candidate Focused Event
END:VEVENT
END:VCALENDAR