BEGIN:VCALENDAR
VERSION:2.0
PRODID:-//CFA Society North Carolina - ECPv6.15.17.1//NONSGML v1.0//EN
CALSCALE:GREGORIAN
METHOD:PUBLISH
X-WR-CALNAME:CFA Society North Carolina
X-ORIGINAL-URL:https://cfanorthcarolina.org
X-WR-CALDESC:Events for CFA Society North Carolina
REFRESH-INTERVAL;VALUE=DURATION:PT1H
X-Robots-Tag:noindex
X-PUBLISHED-TTL:PT1H
BEGIN:VTIMEZONE
TZID:America/New_York
BEGIN:DAYLIGHT
TZOFFSETFROM:-0500
TZOFFSETTO:-0400
TZNAME:EDT
DTSTART:20190310T070000
END:DAYLIGHT
BEGIN:STANDARD
TZOFFSETFROM:-0400
TZOFFSETTO:-0500
TZNAME:EST
DTSTART:20191103T060000
END:STANDARD
BEGIN:DAYLIGHT
TZOFFSETFROM:-0500
TZOFFSETTO:-0400
TZNAME:EDT
DTSTART:20200308T070000
END:DAYLIGHT
BEGIN:STANDARD
TZOFFSETFROM:-0400
TZOFFSETTO:-0500
TZNAME:EST
DTSTART:20201101T060000
END:STANDARD
BEGIN:DAYLIGHT
TZOFFSETFROM:-0500
TZOFFSETTO:-0400
TZNAME:EDT
DTSTART:20210314T070000
END:DAYLIGHT
BEGIN:STANDARD
TZOFFSETFROM:-0400
TZOFFSETTO:-0500
TZNAME:EST
DTSTART:20211107T060000
END:STANDARD
END:VTIMEZONE
BEGIN:VEVENT
DTSTART;TZID=America/New_York:20200114T000000
DTEND;TZID=America/New_York:20200114T000000
DTSTAMP:20260422T045919
CREATED:20200221T194529Z
LAST-MODIFIED:20200221T194529Z
UID:667-1578960000-1578960000@cfanorthcarolina.org
SUMMARY:2019 New Charterholder reception
DESCRIPTION:Private reception prior to 2020 Outlook Dinner to recognize the 2019 New Charterholders and Level 3 Passed Candidates. \nSPEAKER\nDan Fasciano\, CFA\nDan Fasciano is the National Director of Portfolio Management at BNY Mellon Wealth Management.  In this capacity he is responsible for overseeing the implementation of the firm’s asset allocation and overall investment thinking into $250 billion of its client portfolios.  He is a voting member of the firm’s Investment Strategy and Investment Policy Committees.  Additionally\, Dan works directly with a number of the firm’s larger family relationships on a range of investment matters including asset allocation. \nPrior to his return to BNY Mellon\, Dan served as Director of the State of Florida’s $17 billion Treasury and for a number of years as Head of US Investment Office for Aviva Investors\, one of London’s largest investment firms.     \nDan is currently a member of the CFA Institute’s Board of Governors where he chairs its Investment Committee.  The CFA currently includes 170\,000 active members worldwide.  He served for a number of years as the Presidents Council Chair at the CFA Institute and Presidents Council Representative representing the Eastern United States.   Dan is past Chair of the 6\,000 member CFA Society Boston as well a past member of its Board of Directors.  He was awarded lifetime membership at the CFA Society Boston in 2016.   \nDan received his BA from the University of New Hampshire and his MBA from Boston University.  In addition to the CFA designation\, Dan maintains both the CAIA and CMT designations.
URL:https://cfanorthcarolina.org/event/2019-new-charterholder-reception/
LOCATION:Charlotte Marriott City Center\, 100 W Trade St\, Charlotte\, NC\, 28202\, United States
CATEGORIES:Annual Event
END:VEVENT
END:VCALENDAR